BEGIN:VCALENDAR
VERSION:2.0
PRODID:-//Csain Lazio - ECPv6.15.20//NONSGML v1.0//EN
CALSCALE:GREGORIAN
METHOD:PUBLISH
X-ORIGINAL-URL:https://www.csainlazio.it
X-WR-CALDESC:Eventi per Csain Lazio
REFRESH-INTERVAL;VALUE=DURATION:PT1H
X-Robots-Tag:noindex
X-PUBLISHED-TTL:PT1H
BEGIN:VTIMEZONE
TZID:Europe/Rome
BEGIN:DAYLIGHT
TZOFFSETFROM:+0100
TZOFFSETTO:+0200
TZNAME:CEST
DTSTART:20220327T010000
END:DAYLIGHT
BEGIN:STANDARD
TZOFFSETFROM:+0200
TZOFFSETTO:+0100
TZNAME:CET
DTSTART:20221030T010000
END:STANDARD
BEGIN:DAYLIGHT
TZOFFSETFROM:+0100
TZOFFSETTO:+0200
TZNAME:CEST
DTSTART:20230326T010000
END:DAYLIGHT
BEGIN:STANDARD
TZOFFSETFROM:+0200
TZOFFSETTO:+0100
TZNAME:CET
DTSTART:20231029T010000
END:STANDARD
BEGIN:DAYLIGHT
TZOFFSETFROM:+0100
TZOFFSETTO:+0200
TZNAME:CEST
DTSTART:20240331T010000
END:DAYLIGHT
BEGIN:STANDARD
TZOFFSETFROM:+0200
TZOFFSETTO:+0100
TZNAME:CET
DTSTART:20241027T010000
END:STANDARD
BEGIN:DAYLIGHT
TZOFFSETFROM:+0100
TZOFFSETTO:+0200
TZNAME:CEST
DTSTART:20250330T010000
END:DAYLIGHT
BEGIN:STANDARD
TZOFFSETFROM:+0200
TZOFFSETTO:+0100
TZNAME:CET
DTSTART:20251026T010000
END:STANDARD
BEGIN:DAYLIGHT
TZOFFSETFROM:+0100
TZOFFSETTO:+0200
TZNAME:CEST
DTSTART:20260329T010000
END:DAYLIGHT
BEGIN:STANDARD
TZOFFSETFROM:+0200
TZOFFSETTO:+0100
TZNAME:CET
DTSTART:20261025T010000
END:STANDARD
END:VTIMEZONE
BEGIN:VEVENT
DTSTART;TZID=Europe/Rome:20251026T090000
DTEND;TZID=Europe/Rome:20251026T160000
DTSTAMP:20260421T111241
CREATED:20251006T145019Z
LAST-MODIFIED:20260419T164427Z
UID:10000322-1761469200-1761494400@www.csainlazio.it
SUMMARY:5° Trofeo Sakura – Kata Competition
DESCRIPTION:Lo Csain Lazio – Settore Karate organizza il 5° Trofeo Sakura – Kata Competition\, un’importante manifestazione sportiva dedicata alle specialità del Kata individuale e a squadre.L’evento è aperto a tutte le categorie\, dai Preagonisti fino ai Master\, con la partecipazione di atleti provenienti da diverse associazioni sportive del Lazio e di altre regioni. \nDurante la giornata si alterneranno prove individuali e di squadra\, in un contesto di sport\, disciplina e spirito di amicizia.La competizione si svolgerà secondo i regolamenti WKF e Csain 2025\, garantendo il massimo livello tecnico e organizzativo. \n⏰ Programma indicativo\n\n\nOre 09:00: Accreditamento società e afflusso atleti \n\n\nOre 09:30: Saluto di benvenuto e inizio gare \n\n\nMattina: \n\n\nKata individuale categorie: Samurai\, Bambini\, Fanciulli\, Ragazzi\, Esordienti \n\n\nKata individuale categoria Atleti Speciali (se presenti sufficienti iscritti) \n\n\nKata a squadre: Ragazzi\, Esordienti \n\n\n\n\nOre 13:30: Pausa pranzo \n\n\nOre 14:30: Ripresa gara e accreditamento società \n\n\nKata individuale categorie: Cadetti\, Junior\, Senior\, Master \n\n\nKata a squadre: Cadetti\, Junior\, Senior\, Master \n\n\n\n\nGli orari dettagliati saranno comunicati dopo la chiusura delle iscrizioni\, in base al numero dei partecipanti. \n🎯 Categorie e classi d’età\nPreagonisti: \n\n\nSamurai (U6) – 4/5 anni \n\n\nBambini (U8) – 6/7 anni \n\n\nFanciulli (U10) – 8/9 anni \n\n\nRagazzi (U12) – 10/11 anni \n\n\nAgonisti e Master: \n\n\nEsordienti (12/13 anni) \n\n\nCadetti (14/15 anni) \n\n\nJunior (16/17 anni) \n\n\nSenior (18/35 anni) \n\n\nMaster A-E (da 36 anni in su) \n\n\nParakarate: Categoria dedicata agli atleti con disabilità\, con classifiche e premiazioni specifiche. \n📝 Iscrizioni\nLe iscrizioni devono pervenire entro domenica 19 ottobre 2025.Non saranno accettate iscrizioni sul posto. \n📩 Inviare il modulo di iscrizione (Excel) a: infokarate@csainlazio.it \n\n\nScarica il Modulo D – Iscrizione gara individuale \n\n\nScarica Modulo E – Iscrizione gara a squadre \n\n\nLe iscrizioni saranno confermate via email dopo la registrazione ufficiale. \n🏅 Premiazioni\n\n\nTutte le categorie prevedono premi per 1°\, 2° e 3° classificato (a pari merito). \n\n\nSamurai e Bambini: premiati tutti come primi classificati. \n\n\nFanciulli: sistema a blocchi con più premiati in base ai punteggi. \n\n\nRagazzi: i non premiati ricevono la medaglia d’argento come 4° posto. \n\n\nAgonisti e Master: attestato di partecipazione per chi non sale sul podio. \n\n\n  \n📋 Regolamento\nLa competizione seguirà i regolamenti ufficiali: \n\n\nWKF (World Karate Federation) \n\n\nProgramma attività federali \n\n\nRegolamento Gara Csain 2025 \n\n\nScarica il regolamento \n  \n  \n🧩 In collaborazione con\n\n\nRegione Lazio \n\n\nC.S.A.In. – Centri Sportivi Aziendali e Industriali
URL:https://www.csainlazio.it/evento/5-trofeo-sakura-kata-competition/
LOCATION:Complesso sportivo ROMAN Sport City\, Via Pontina Km 30\, Pomezia\, 00071\, Italy
CATEGORIES:Karate
ATTACH;FMTTYPE=image/jpeg:https://www.csainlazio.it/wp-content/uploads/2025/10/ORIZZONTALE.jpg
ORGANIZER;CN="Settore Karate Csain Lazio":MAILTO:infokarate@csainlazio.it
END:VEVENT
BEGIN:VEVENT
DTSTART;TZID=Europe/Rome:20250316T080000
DTEND;TZID=Europe/Rome:20250316T180000
DTSTAMP:20260421T111241
CREATED:20250227T164059Z
LAST-MODIFIED:20260419T164436Z
UID:10000302-1742112000-1742148000@www.csainlazio.it
SUMMARY:2° Grand Prix Karate Lazio - Kumite Competition
DESCRIPTION:Il 2° Grand Prix Karate Lazio\, organizzato dal Comitato Regionale CSAIn Lazio – Settore Karate\, si terrà il 16 marzo 2025 presso il Palazzetto del Centro Sportivo Universal Club\, situato in Via Cesare Battisti 133\, 00027 Morlupo (RM). \nL’evento è dedicato alla specialità Kumite e sarà aperto agli atleti di tutte le categorie\, dai più giovani ai Master. La competizione è riservata agli atleti appartenenti a società affiliate a CSAIn e Fijlkam. \n\nDettagli della competizione\n📅 Data: Domenica 16 marzo 2025📍 Luogo: Palazzetto del Centro Sportivo Universal Club\, Morlupo (RM)🥋 Specialità: Kumite (combattimento individuale) \n\nCategorie ammesse\n✅ Preagonisti \n\nFanciulli (U10): 8-9 anni\nRagazzi (U12): 10-11 anni\n\n✅ Agonisti \n\nEsordienti (U14): 12-13 anni\nCadetti: 14-15 anni\nJuniors: 16-17 anni\nSeniores: 18-35 anni\nMaster: dai 36 anni in su\n\n🎖 Cinture ammesse: \n\nCinture colorate\nCinture marroni e nere\n\n\nRegolamento di gara \n🏆 Regolamenti di riferimento: \n\nRegolamento arbitrale WKF/Fijlkam\nRegolamento attività promozionale preagonistica giovanile – Fijlkam\nRegolamento CSAIn 2025\n\n🎖 Premiazioni: \n\nPer tutte le categorie sarà adottato il sistema a bandierine ad eliminazione diretta\nSaranno premiati 1°\, 2° e 3° posto a pari merito\n\n🎯 Norme di sicurezza: \n\nNon è consentito agli ospiti accedere all’area riservata agli atleti\nÈ obbligatorio l’uso di protezioni personali regolamentari\nI partecipanti devono essere in possesso di certificato medico agonistico valido\n\nScarica il regolamento \n  \n\nContatti e informazioni\n📞 M° Marco Cocci – Tel. 3381215211📧 Email: infokarate@csainlazio.it \n📌 Con il patrocinio del Comune di Morlupo🏅 Evento organizzato da CSAIn Lazio – Settore Karate in collaborazione con il Centro Sportivo Universal Club \nNon perdere l’occasione di partecipare a questa prestigiosa competizione di Kumite\, un evento che celebra la tecnica\, il rispetto e lo spirito sportivo. Ti aspettiamo! \n\nScarica il modulo di iscrizione
URL:https://www.csainlazio.it/evento/2-grand-prix-karate-lazio-kumite-competition/
LOCATION:Palazzetto del Centro Sportivo Universal Club\, Morlupo (RM)\, Via Cesare Battisti 133\, Morlupo (RM)\, 00027\, Italy
CATEGORIES:Eventi In Primo Piano,Eventi Roma,Karate
ATTACH;FMTTYPE=image/webp:https://www.csainlazio.it/wp-content/uploads/2025/02/ORIZONTALE-1.webp
ORGANIZER;CN="Settore Karate Csain Lazio":MAILTO:infokarate@csainlazio.it
END:VEVENT
BEGIN:VEVENT
DTSTART;TZID=Europe/Rome:20240609T080000
DTEND;TZID=Europe/Rome:20240609T200000
DTSTAMP:20260421T111241
CREATED:20240518T173941Z
LAST-MODIFIED:20260419T164447Z
UID:10000233-1717920000-1717963200@www.csainlazio.it
SUMMARY:1° GRAND PRIX KARATE LAZIO
DESCRIPTION:Il 1° Grand Prix Karate Lazio è un evento imperdibile per tutti gli appassionati di arti marziali\, in programma Domenica 9 Giugno 2024 presso il Palazzetto dello Sport di Fiano Romano\, situato in via Tiberina Km 21.500 – 00065 Fiano Romano (RM). \nL’evento\, organizzato con la massima cura e professionalità\, si focalizza sulla specialità del Kumite\, offrendo un’opportunità unica per atleti di diverse fasce d’età di mettersi alla prova e competere ad alto livello. Le categorie previste sono: \n\nU12 (Ragazzi)\nU14 (Esordienti)\nCADETTI\nJUNIORES\nSENIORES\n\nIl Grand Prix rappresenta un’occasione straordinaria per promuovere la disciplina del Karate\, favorendo l’incontro e il confronto tra atleti provenienti da tutta la regione Lazio. \nL’evento si propone di valorizzare i principi fondamentali di questa arte marziale\, quali il rispetto\, la determinazione e il controllo di sé\, in un contesto agonistico di alto profilo. \nLa location scelta\, il Palazzetto dello Sport di Fiano Romano\, offre un’infrastruttura moderna e funzionale\, in grado di accogliere atleti e spettatori in un ambiente confortevole e sicuro. \nLa struttura è facilmente raggiungibile grazie alla sua posizione strategica lungo la via Tiberina.L’organizzazione del 1° Grand Prix Karate Lazio pone grande attenzione alla qualità dell’evento\, garantendo un’esperienza indimenticabile per tutti i partecipanti. \nArbitri qualificati e uno staff esperto assicureranno il regolare svolgimento delle competizioni\, nel pieno rispetto delle norme e dei regolamenti previsti.Non perdete l’opportunità di prendere parte a questo straordinario evento\, che si preannuncia come un momento di grande sport\, passione e condivisione. \nSegnate in agenda la data: Domenica 9 Giugno 2024\, il 1° Grand Prix Karate Lazio vi aspetta per una giornata all’insegna dell’adrenalina e dell’eccellenza marziale. \nSCARICA IL REGOLAMENTO \nSCARICA IL MODULO PER L’ISCRIZIONE \n 
URL:https://www.csainlazio.it/evento/1-grand-prix-karate-lazio/
LOCATION:Palazzetto dello Sport di Fiano Romano\, via Tiberina Km 21.500\, Fiano Romano\, 00065\, Italia
CATEGORIES:Eventi In Primo Piano,Eventi Roma,Karate
ATTACH;FMTTYPE=image/jpeg:https://www.csainlazio.it/wp-content/uploads/2024/05/grand-prix-di-karate.jpg
ORGANIZER;CN="Settore Karate Csain Lazio":MAILTO:infokarate@csainlazio.it
END:VEVENT
BEGIN:VEVENT
DTSTART;TZID=Europe/Rome:20231119T110000
DTEND;TZID=Europe/Rome:20231119T130000
DTSTAMP:20260421T111241
CREATED:20231108T182759Z
LAST-MODIFIED:20260419T164507Z
UID:10000151-1700391600-1700398800@www.csainlazio.it
SUMMARY:Stage Tecnico di Kumite
DESCRIPTION:Vieni a scoprire il fascino del Karate Kumite al nostro eccezionale evento che si terrà presso il Palazzetto dello Sport di Formello! \nUn’opportunità imperdibile per chiunque voglia migliorare le proprie abilità nel Kumite! Il nostro Stage Tecnico di Kumite metterà in mostra le tecniche più avanzate\, guidate da istruttori esperti e rinomati nel campo del karate. Sarà un’esperienza unica per affinare la tua tecnica e acquisire una maggiore consapevolezza durante gli incontri di Kumite. \nScarica le informazioni \nScarica il modulo per l’iscirizione
URL:https://www.csainlazio.it/evento/stage-tecnico-di-kumite/
LOCATION:Palazzetto dello Sport di Formello\, Via di Monte Aguzzo\, 3\, Formello\, 00060\, Italia
CATEGORIES:Eventi In Primo Piano,Eventi Roma,Karate
ATTACH;FMTTYPE=image/jpeg:https://www.csainlazio.it/wp-content/uploads/2023/11/Stage-tecnico-di-kumite2.jpg
ORGANIZER;CN="Settore Karate Csain Lazio":MAILTO:infokarate@csainlazio.it
END:VEVENT
BEGIN:VEVENT
DTSTART;TZID=Europe/Rome:20231119T090000
DTEND;TZID=Europe/Rome:20231119T110000
DTSTAMP:20260421T111241
CREATED:20231108T192136Z
LAST-MODIFIED:20260419T164510Z
UID:10000152-1700384400-1700391600@www.csainlazio.it
SUMMARY:4 Trofeo Sakura
DESCRIPTION:Il 19 Novembre\, preparatevi a vivere un’esperienza sportiva unica al “4° Trofeo Sakura”! \nRegolamento Gara \nScarica il modulo per l’iscirizione
URL:https://www.csainlazio.it/evento/4-trofeo-sakura/
LOCATION:Palazzetto dello Sport di Formello\, Via di Monte Aguzzo\, 3\, Formello\, 00060\, Italia
CATEGORIES:Eventi In Primo Piano,Eventi Roma,Karate
ATTACH;FMTTYPE=image/jpeg:https://www.csainlazio.it/wp-content/uploads/2023/11/karate-class-kids-demonstrating-kata-scaled.jpg
ORGANIZER;CN="Settore Karate Csain Lazio":MAILTO:infokarate@csainlazio.it
END:VEVENT
END:VCALENDAR