BEGIN:VCALENDAR
VERSION:2.0
PRODID:-//Csain Lazio - ECPv6.15.20//NONSGML v1.0//EN
CALSCALE:GREGORIAN
METHOD:PUBLISH
X-ORIGINAL-URL:https://www.csainlazio.it
X-WR-CALDESC:Eventi per Csain Lazio
REFRESH-INTERVAL;VALUE=DURATION:PT1H
X-Robots-Tag:noindex
X-PUBLISHED-TTL:PT1H
BEGIN:VTIMEZONE
TZID:Europe/Rome
BEGIN:DAYLIGHT
TZOFFSETFROM:+0100
TZOFFSETTO:+0200
TZNAME:CEST
DTSTART:20240331T010000
END:DAYLIGHT
BEGIN:STANDARD
TZOFFSETFROM:+0200
TZOFFSETTO:+0100
TZNAME:CET
DTSTART:20241027T010000
END:STANDARD
BEGIN:DAYLIGHT
TZOFFSETFROM:+0100
TZOFFSETTO:+0200
TZNAME:CEST
DTSTART:20250330T010000
END:DAYLIGHT
BEGIN:STANDARD
TZOFFSETFROM:+0200
TZOFFSETTO:+0100
TZNAME:CET
DTSTART:20251026T010000
END:STANDARD
BEGIN:DAYLIGHT
TZOFFSETFROM:+0100
TZOFFSETTO:+0200
TZNAME:CEST
DTSTART:20260329T010000
END:DAYLIGHT
BEGIN:STANDARD
TZOFFSETFROM:+0200
TZOFFSETTO:+0100
TZNAME:CET
DTSTART:20261025T010000
END:STANDARD
END:VTIMEZONE
BEGIN:VEVENT
DTSTART;TZID=Europe/Rome:20251026T090000
DTEND;TZID=Europe/Rome:20251026T160000
DTSTAMP:20260421T111849
CREATED:20251006T145019Z
LAST-MODIFIED:20260419T164427Z
UID:10000322-1761469200-1761494400@www.csainlazio.it
SUMMARY:5° Trofeo Sakura – Kata Competition
DESCRIPTION:Lo Csain Lazio – Settore Karate organizza il 5° Trofeo Sakura – Kata Competition\, un’importante manifestazione sportiva dedicata alle specialità del Kata individuale e a squadre.L’evento è aperto a tutte le categorie\, dai Preagonisti fino ai Master\, con la partecipazione di atleti provenienti da diverse associazioni sportive del Lazio e di altre regioni. \nDurante la giornata si alterneranno prove individuali e di squadra\, in un contesto di sport\, disciplina e spirito di amicizia.La competizione si svolgerà secondo i regolamenti WKF e Csain 2025\, garantendo il massimo livello tecnico e organizzativo. \n⏰ Programma indicativo\n\n\nOre 09:00: Accreditamento società e afflusso atleti \n\n\nOre 09:30: Saluto di benvenuto e inizio gare \n\n\nMattina: \n\n\nKata individuale categorie: Samurai\, Bambini\, Fanciulli\, Ragazzi\, Esordienti \n\n\nKata individuale categoria Atleti Speciali (se presenti sufficienti iscritti) \n\n\nKata a squadre: Ragazzi\, Esordienti \n\n\n\n\nOre 13:30: Pausa pranzo \n\n\nOre 14:30: Ripresa gara e accreditamento società \n\n\nKata individuale categorie: Cadetti\, Junior\, Senior\, Master \n\n\nKata a squadre: Cadetti\, Junior\, Senior\, Master \n\n\n\n\nGli orari dettagliati saranno comunicati dopo la chiusura delle iscrizioni\, in base al numero dei partecipanti. \n🎯 Categorie e classi d’età\nPreagonisti: \n\n\nSamurai (U6) – 4/5 anni \n\n\nBambini (U8) – 6/7 anni \n\n\nFanciulli (U10) – 8/9 anni \n\n\nRagazzi (U12) – 10/11 anni \n\n\nAgonisti e Master: \n\n\nEsordienti (12/13 anni) \n\n\nCadetti (14/15 anni) \n\n\nJunior (16/17 anni) \n\n\nSenior (18/35 anni) \n\n\nMaster A-E (da 36 anni in su) \n\n\nParakarate: Categoria dedicata agli atleti con disabilità\, con classifiche e premiazioni specifiche. \n📝 Iscrizioni\nLe iscrizioni devono pervenire entro domenica 19 ottobre 2025.Non saranno accettate iscrizioni sul posto. \n📩 Inviare il modulo di iscrizione (Excel) a: infokarate@csainlazio.it \n\n\nScarica il Modulo D – Iscrizione gara individuale \n\n\nScarica Modulo E – Iscrizione gara a squadre \n\n\nLe iscrizioni saranno confermate via email dopo la registrazione ufficiale. \n🏅 Premiazioni\n\n\nTutte le categorie prevedono premi per 1°\, 2° e 3° classificato (a pari merito). \n\n\nSamurai e Bambini: premiati tutti come primi classificati. \n\n\nFanciulli: sistema a blocchi con più premiati in base ai punteggi. \n\n\nRagazzi: i non premiati ricevono la medaglia d’argento come 4° posto. \n\n\nAgonisti e Master: attestato di partecipazione per chi non sale sul podio. \n\n\n  \n📋 Regolamento\nLa competizione seguirà i regolamenti ufficiali: \n\n\nWKF (World Karate Federation) \n\n\nProgramma attività federali \n\n\nRegolamento Gara Csain 2025 \n\n\nScarica il regolamento \n  \n  \n🧩 In collaborazione con\n\n\nRegione Lazio \n\n\nC.S.A.In. – Centri Sportivi Aziendali e Industriali
URL:https://www.csainlazio.it/evento/5-trofeo-sakura-kata-competition/
LOCATION:Complesso sportivo ROMAN Sport City\, Via Pontina Km 30\, Pomezia\, 00071\, Italy
CATEGORIES:Karate
ATTACH;FMTTYPE=image/jpeg:https://www.csainlazio.it/wp-content/uploads/2025/10/ORIZZONTALE.jpg
ORGANIZER;CN="Settore Karate Csain Lazio":MAILTO:infokarate@csainlazio.it
END:VEVENT
END:VCALENDAR