BEGIN:VCALENDAR
VERSION:2.0
PRODID:-//Csain Lazio - ECPv6.15.20//NONSGML v1.0//EN
CALSCALE:GREGORIAN
METHOD:PUBLISH
X-WR-CALNAME:Csain Lazio
X-ORIGINAL-URL:https://www.csainlazio.it
X-WR-CALDESC:Eventi per Csain Lazio
REFRESH-INTERVAL;VALUE=DURATION:PT1H
X-Robots-Tag:noindex
X-PUBLISHED-TTL:PT1H
BEGIN:VTIMEZONE
TZID:Europe/Rome
BEGIN:DAYLIGHT
TZOFFSETFROM:+0100
TZOFFSETTO:+0200
TZNAME:CEST
DTSTART:20240331T010000
END:DAYLIGHT
BEGIN:STANDARD
TZOFFSETFROM:+0200
TZOFFSETTO:+0100
TZNAME:CET
DTSTART:20241027T010000
END:STANDARD
BEGIN:DAYLIGHT
TZOFFSETFROM:+0100
TZOFFSETTO:+0200
TZNAME:CEST
DTSTART:20250330T010000
END:DAYLIGHT
BEGIN:STANDARD
TZOFFSETFROM:+0200
TZOFFSETTO:+0100
TZNAME:CET
DTSTART:20251026T010000
END:STANDARD
BEGIN:DAYLIGHT
TZOFFSETFROM:+0100
TZOFFSETTO:+0200
TZNAME:CEST
DTSTART:20260329T010000
END:DAYLIGHT
BEGIN:STANDARD
TZOFFSETFROM:+0200
TZOFFSETTO:+0100
TZNAME:CET
DTSTART:20261025T010000
END:STANDARD
END:VTIMEZONE
BEGIN:VEVENT
DTSTART;TZID=Europe/Rome:20250920T150000
DTEND;TZID=Europe/Rome:20250920T170000
DTSTAMP:20260420T005722
CREATED:20250908T101613Z
LAST-MODIFIED:20260419T164931Z
UID:31499-1758380400-1758387600@www.csainlazio.it
SUMMARY:Riunione Tecnica Ginnastica Artistica – Roma\, 20 Settembre 2025
DESCRIPTION:Lo Csain Lazio organizza una riunione tecnica dedicata alla ginnastica artistica\, rivolta alle società sportive\, dirigenti\, tecnici e istruttori interessati ad approfondire le novità della stagione sportiva 2025/2026. \n📅 Data: Sabato 20 Settembre 2025🕒 Orario: ore 15:00📍 Luogo: Teatro San Pancrazio – Piazza San Pancrazio 7\, Roma (zona Gianicolo/Monteverde) \n\nOrdine del Giorno\nDurante l’incontro\, presieduto dalle Responsabili del settore Ginnastica Artistica Giulia De Santis e Noemi Muzi\, verranno affrontati i seguenti temi: \n\n\nPresentazione delle Responsabili di Ginnastica Artistica maschile e femminile \n\n\nModalità e costi di affiliazione e tesseramento allo Csain \n\n\nIllustrazione delle modifiche al programma GAF e aggiornamento del programma GAM \n\n\nPresentazione delle manifestazioni previste per la stagione corrente \n\n\nCorso di formazione per istruttore e esame di qualifica (per chi ha esperienza) \n\n\nCorso per aspiranti giudici \n\n\nVarie ed eventuali \n\n\n\nFinalità della riunione\nL’incontro ha l’obiettivo di: \n\n\nfornire un aggiornamento tecnico e organizzativo alle società affiliate; \n\n\ncondividere linee guida e programmi per la nuova stagione sportiva; \n\n\nfavorire il confronto diretto con le Responsabili del settore ginnastica artistica; \n\n\npresentare le opportunità di formazione e qualificazione per istruttori e giudici. \n\n\n\nInformazioni e conferme\nLa partecipazione è gratuita ed è gradita la conferma da parte delle società interessate. \n✉ Per informazioni e adesioni: artistica@csainlazio.it
URL:https://www.csainlazio.it/evento/riunione-tecnica-ginnastica-artistica-roma-20-settembre-2025/
LOCATION:Teatro San Pancrazio\, piazza San pancrazio 7 (zona Gianicolo/Monteverde)\, ROMA\, 00152\, Italy
CATEGORIES:Ginnastica Artistica
ATTACH;FMTTYPE=image/jpeg:https://www.csainlazio.it/wp-content/uploads/2025/09/Riunione-Tecnica-Ginnastica-Artistica.jpg
ORGANIZER;CN="Settore Ginnastica Artistica":MAILTO:artistica@csainlazio.it
END:VEVENT
END:VCALENDAR