BEGIN:VCALENDAR
VERSION:2.0
PRODID:-//Csain Lazio - ECPv6.15.20//NONSGML v1.0//EN
CALSCALE:GREGORIAN
METHOD:PUBLISH
X-WR-CALNAME:Csain Lazio
X-ORIGINAL-URL:https://www.csainlazio.it
X-WR-CALDESC:Eventi per Csain Lazio
REFRESH-INTERVAL;VALUE=DURATION:PT1H
X-Robots-Tag:noindex
X-PUBLISHED-TTL:PT1H
BEGIN:VTIMEZONE
TZID:Europe/Rome
BEGIN:DAYLIGHT
TZOFFSETFROM:+0100
TZOFFSETTO:+0200
TZNAME:CEST
DTSTART:20230326T010000
END:DAYLIGHT
BEGIN:STANDARD
TZOFFSETFROM:+0200
TZOFFSETTO:+0100
TZNAME:CET
DTSTART:20231029T010000
END:STANDARD
BEGIN:DAYLIGHT
TZOFFSETFROM:+0100
TZOFFSETTO:+0200
TZNAME:CEST
DTSTART:20240331T010000
END:DAYLIGHT
BEGIN:STANDARD
TZOFFSETFROM:+0200
TZOFFSETTO:+0100
TZNAME:CET
DTSTART:20241027T010000
END:STANDARD
BEGIN:DAYLIGHT
TZOFFSETFROM:+0100
TZOFFSETTO:+0200
TZNAME:CEST
DTSTART:20250330T010000
END:DAYLIGHT
BEGIN:STANDARD
TZOFFSETFROM:+0200
TZOFFSETTO:+0100
TZNAME:CET
DTSTART:20251026T010000
END:STANDARD
END:VTIMEZONE
BEGIN:VEVENT
DTSTART;TZID=Europe/Rome:20240609T080000
DTEND;TZID=Europe/Rome:20240609T170000
DTSTAMP:20260420T132252
CREATED:20240404T153438Z
LAST-MODIFIED:20260419T164453Z
UID:10000223-1717920000-1717952400@www.csainlazio.it
SUMMARY:Nuoto Master - Divertiamoci nuotando
DESCRIPTION:La manifestazione sportiva in programma per la stagione 2023-2024 rappresenta un evento esclusivo e di prestigio riservato agli atleti adulti iscritti alle Scuole Nuoto delle Società affiliate al Csain. Questo appuntamento annuale offre un’opportunità unica per i nuotatori di confrontarsi in un contesto competitivo costruttivo e stimolante\, promuovendo al contempo i valori dello sport\, del fair play e della sana competizione. \nLa competizione si terrà presso l’impianto della SSD ATLANTIDE\, situato in Via Mura dei Francesi 179 b\, Ciampino-Roma. Questa location è stata scelta per le sue eccellenti strutture e per la capacità di ospitare eventi sportivi di alto livello. \nL’evento si articolerà su tre giornate distinte: \n\nPrima giornata: 28 Aprile 2024\, dalle ore 8:00 alle ore 14:00.\nSeconda giornata: 19 Maggio 2024\, dalle ore 8:00 alle ore 14:00.\nGiornata delle finali: 9 Giugno 2024\, dalle ore 8:00 alle ore 14:00.\n\nLa manifestazione è aperta esclusivamente agli adulti regolarmente iscritti e frequentanti le Scuole Nuoto delle Società affiliate al C.S.A.In. Gli atleti saranno suddivisi in categorie denominate “Master”\, in base a fasce d’appartenenza stabilite dal regolamento. Si sottolinea che è fatto divieto assoluto di partecipazione ai tesserati Master della Federazione Italiana Nuoto (FIN). \nScarica il regolamento
URL:https://www.csainlazio.it/evento/nuoto-master-divertiamoci-nuotando/2024-06-09/
LOCATION:PISCINA SSD ATLANTIDE\, Via Mura dei Francesi 179 B\, Ciampino (RM)\, Italia
CATEGORIES:Eventi Roma,Nuoto
ATTACH;FMTTYPE=image/jpeg:https://www.csainlazio.it/wp-content/uploads/2024/04/NUOTO-MASTER.jpg
ORGANIZER;CN="Settore Nuoto C.S.A.In Lazio":MAILTO:nuoto@csainlazio.it
END:VEVENT
END:VCALENDAR