BEGIN:VCALENDAR
VERSION:2.0
PRODID:-//Csain Lazio - ECPv6.15.20//NONSGML v1.0//EN
CALSCALE:GREGORIAN
METHOD:PUBLISH
X-ORIGINAL-URL:https://www.csainlazio.it
X-WR-CALDESC:Eventi per Csain Lazio
REFRESH-INTERVAL;VALUE=DURATION:PT1H
X-Robots-Tag:noindex
X-PUBLISHED-TTL:PT1H
BEGIN:VTIMEZONE
TZID:Europe/Rome
BEGIN:DAYLIGHT
TZOFFSETFROM:+0100
TZOFFSETTO:+0200
TZNAME:CEST
DTSTART:20250330T010000
END:DAYLIGHT
BEGIN:STANDARD
TZOFFSETFROM:+0200
TZOFFSETTO:+0100
TZNAME:CET
DTSTART:20251026T010000
END:STANDARD
BEGIN:DAYLIGHT
TZOFFSETFROM:+0100
TZOFFSETTO:+0200
TZNAME:CEST
DTSTART:20260329T010000
END:DAYLIGHT
BEGIN:STANDARD
TZOFFSETFROM:+0200
TZOFFSETTO:+0100
TZNAME:CET
DTSTART:20261025T010000
END:STANDARD
BEGIN:DAYLIGHT
TZOFFSETFROM:+0100
TZOFFSETTO:+0200
TZNAME:CEST
DTSTART:20270328T010000
END:DAYLIGHT
BEGIN:STANDARD
TZOFFSETFROM:+0200
TZOFFSETTO:+0100
TZNAME:CET
DTSTART:20271031T010000
END:STANDARD
END:VTIMEZONE
BEGIN:VEVENT
DTSTART;TZID=Europe/Rome:20260117T080000
DTEND;TZID=Europe/Rome:20260531T170000
DTSTAMP:20260422T195148
CREATED:20251211T082915Z
LAST-MODIFIED:20260210T162501Z
UID:10002297-1768636800-1780246800@www.csainlazio.it
SUMMARY:Campionato Ginnastica Artistica CSAIn Lazio 2026
DESCRIPTION:Lo Csain Lazio presenta il calendario ufficiale del Campionato Ginnastica Artistica CSAIn Lazio 2026 dedicato alle discipline di Ginnastica Artistica Femminile (GAF)\, Ginnastica Artistica Maschile (GAM) e SuperGym. \nUn programma ricco di appuntamenti che coinvolgerà società\, atlete e atleti provenienti da tutto il territorio regionale\, con l’obiettivo di promuovere lo sport\, il talento e i valori educativi che da sempre caratterizzano l’attività dello Csain. \n📅 Date e sedi degli eventi\n14–15 febbraio 2026 – SuperGym \n📍 Kines Roma – Via Filacciano\, 5 \n21–22 febbraio 2026 – SuperGym \n📍 Kines Roma – Via Filacciano\, 5 \n14–15 marzo 2026 – GAF A-B-C1 – GAM A-B-C-D📍 Sede da definire \n21–22 marzo 2026 – GAF C2 + D (alcune categorie)📍 Be First – c/o Liceo Ignazio Vian – Via della Mainella\, 00061 Anguillara Sabazia (RM) \n28–29 marzo 2026 – GAF C2 + D (alcune categorie)📍 Be First – c/o Liceo Ignazio Vian – Via della Mainella\, 00061 Anguillara Sabazia (RM) \n11–12 aprile 2026 – SuperGym \n📍 Kines Roma – Via Filacciano\, 5 \n18–19 aprile 2026 – SuperGym \n📍 Kines Roma – Via Filacciano\, 5 \n20–24 maggio 2026 – Campionato Nazionale CSAIn \n📍 Cesenatico \n30–31 maggio 2026 – Coppa Lazio \n📍 Sede da definire \n\n🎯 Un percorso sportivo pensato per crescere insieme\nIl Campionato CSAIn Lazio 2026 rappresenta un’occasione fondamentale per tutte le ASD\, SSD e realtà sportive del territorio che desiderano offrire ai propri tesserati un’esperienza agonistica qualificata\, strutturata e in linea con i valori di inclusione\, crescita e formazione. \nLe diverse tappe del calendario sono pensate per garantire un percorso graduale\, completo e stimolante\, valorizzando il lavoro delle società sportive e accompagnando atlete e atleti verso il prestigioso Campionato Nazionale di Cesenatico. \n\n📞 Contatti e informazioni\nPer chiarimenti\, iscrizioni o supporto organizzativo:📱 WhatsApp: 331 636 0537✉️ Email: segreteria@csainlazio.it \nRimani aggiornato su tutte le novità attraverso il sito ufficiale www.csainlazio.it e i canali social dello Csain Lazio.
URL:https://www.csainlazio.it/evento/campionato-ginnastica-artistica-csain-lazio-2026/2026-01-17/
LOCATION:Palestra Kines\, Via Filaccino\, 5\, Roma\, 00176\, Italia
CATEGORIES:Eventi In Primo Piano,Ginnastica Artistica
ATTACH;FMTTYPE=image/jpeg:https://www.csainlazio.it/wp-content/uploads/2025/12/ORIZZONTALE.jpg
ORGANIZER;CN="Settore Ginnastica Artistica":MAILTO:artistica@csainlazio.it
END:VEVENT
BEGIN:VEVENT
DTSTART;TZID=Europe/Rome:20260201T150000
DTEND;TZID=Europe/Rome:20260201T190000
DTSTAMP:20260422T195148
CREATED:20260114T091531Z
LAST-MODIFIED:20260416T135905Z
UID:10002299-1769958000-1769972400@www.csainlazio.it
SUMMARY:Circuito Nuoto “Sprint Cup” CSAIn Lazio 2026
DESCRIPTION:Campionato Regionale – Settore Nuoto \nIl Comitato Regionale Lazio dello Csain – Settore Nuoto organizza per la stagione sportiva 2026 il Circuito Nuoto “Sprint Cup”\, manifestazione regionale riservata agli atleti tesserati CSAIn. \nL’evento rappresenta un appuntamento di rilievo per il movimento natatorio regionale\, con un calendario articolato in più prove e una finale conclusiva\, pensato per valorizzare la partecipazione\, la competizione e la crescita tecnica degli atleti. \nScarica la documentazione\n  \n\n📅 Calendario gare 2026\n\n\n\n\n19 aprile 2026Scadenza iscrizioni: 13 aprile 2026 \n\n\n31 maggio 2026 – FinaliScadenza iscrizioni: 25 maggio 2026 \n\n\n\n\nProgramma ufficiale della terza tappa del circuito nuoto “Sprint Cup”\, in programma sabato 19 aprile 2026 presso il Club Nomentano di Roma\, nelle sedi di Viale Kant 312 e Viale Rousseau 124. \nLa manifestazione sarà dedicata alle prove di: \n\n25 metri dorso\n25 metri farfalla\n\nL’evento coinvolgerà atleti di diverse fasce d’età\, a partire dai più piccoli fino alle categorie superiori\, con un’organizzazione studiata per garantire sicurezza\, fluidità e rispetto dei tempi gara. \nProgramma gare e orari\nFemmine 2019 e Maschi 2018 \n\nRitrovo: ore 14:15\nRiscaldamento: 14:20\nInizio gare: 14:30\nPremiazioni a seguire\n\nFemmine 2018 e Maschi 2017 \n\nRitrovo: ore 15:15\nRiscaldamento: 15:20\nInizio gare: 15:30\nPremiazioni a seguire\n\nEsordienti B femmine e maschi \n\nRitrovo: ore 16:30\nRiscaldamento: 16:40\nInizio gare: 16:50\nPremiazioni a seguire\n\nEsordienti A femmine e maschi \n\nRitrovo: ore 17:45\nRiscaldamento: 17:50\nInizio gare: 18:00\nPremiazioni a seguire\n\nCategoria Unica e precedenti femmine e maschi \n\nRitrovo: ore 18:50\nRiscaldamento: 18:55\nInizio gare: 19:00\nPremiazioni a seguire\n\nDisposizioni organizzative\nPer ciascun atleta è consentito l’accesso a un massimo di due spettatori. Il personale addetto\, presso l’ingresso della piscina\, provvederà alla gestione degli accessi.\nA ogni referente di società verranno consegnate due tessere precaricate per l’utilizzo di docce e phon: una per lo spogliatoio maschile e una per lo spogliatoio femminile. Al termine della giornata di gare\, le tessere dovranno essere restituite in segreteria o alla referente Paola.\nGli spogliatoi messi a disposizione delle società ospiti si trovano al piano terra: uno maschile e uno femminile. Si raccomanda di accompagnare gli atleti nel rispetto del loro sesso.\nGli atleti\, nell’area d’attesa\, dovranno attendere l’addetto del personale\, che li inviterà ad accedere al piano vasca quando sarà il momento dell’inizio della loro gara.\nSul piano vasca si invitano gli allenatori a tenere nelle vicinanze gli atleti prossimi alla gara\, al fine di evitare ritardi nello svolgimento delle batterie.\nSi raccomanda la massima diffusione delle presenti disposizioni\, che dovranno essere necessariamente condivise con i referenti di società\, gli allenatori e i genitori. \n  \n  \n\n📋 Regolamento essenziale\n\n\nTutti gli atleti devono essere in possesso di certificato medico di idoneità generica\, depositato presso la società di appartenenza. \n\n\nFase eliminatoria: massimo 2 gare individuali per atleta a giornata. \n\n\nFase finale: massimo 4 gare individuali per atleta. \n\n\nIn finale sono previste anche staffette per categoria. \n\n\nQuota di iscrizione: € 7\,00 per gara. \n\n\nNon sono ammesse iscrizioni sul campo gara. \n\n\n  \n\n✉️ Modalità di iscrizione\nLe Società partecipanti dovranno: \n\n\nCompilare il foglio riepilogativo di iscrizione; \n\n\nInviare il modulo compilato insieme alla contabile del bonifico; \n\n\nTrasmettere il tutto all’indirizzo email:📧 nuoto@csainlazio.it \n\n\n📞 Informazioni: 379 2348 135\n  \n\n🏅 Organizzazione\nManifestazione organizzata dal Comitato Regionale Lazio dello Csain – Settore Nuoto\, nell’ambito delle attività ufficiali di promozione sportiva regionale.
URL:https://www.csainlazio.it/evento/circuito-nuoto-sprint-cup-csain-lazio-2026/2026-02-01/
LOCATION:Club Nomentano\, Viale Rousseau 124 / Viale Kant 312\, Roma\, Italy
CATEGORIES:Eventi In Primo Piano,Eventi Roma,Nuoto
ATTACH;FMTTYPE=image/jpeg:https://www.csainlazio.it/wp-content/uploads/2026/01/ORIZZONTALE.jpg
ORGANIZER;CN="Settore Nuoto C.S.A.In Lazio":MAILTO:nuoto@csainlazio.it
END:VEVENT
END:VCALENDAR