BEGIN:VCALENDAR
VERSION:2.0
PRODID:-//Csain Lazio - ECPv6.15.20//NONSGML v1.0//EN
CALSCALE:GREGORIAN
METHOD:PUBLISH
X-WR-CALNAME:Csain Lazio
X-ORIGINAL-URL:https://www.csainlazio.it
X-WR-CALDESC:Eventi per Csain Lazio
REFRESH-INTERVAL;VALUE=DURATION:PT1H
X-Robots-Tag:noindex
X-PUBLISHED-TTL:PT1H
BEGIN:VTIMEZONE
TZID:Europe/Rome
BEGIN:DAYLIGHT
TZOFFSETFROM:+0100
TZOFFSETTO:+0200
TZNAME:CEST
DTSTART:20240331T010000
END:DAYLIGHT
BEGIN:STANDARD
TZOFFSETFROM:+0200
TZOFFSETTO:+0100
TZNAME:CET
DTSTART:20241027T010000
END:STANDARD
BEGIN:DAYLIGHT
TZOFFSETFROM:+0100
TZOFFSETTO:+0200
TZNAME:CEST
DTSTART:20250330T010000
END:DAYLIGHT
BEGIN:STANDARD
TZOFFSETFROM:+0200
TZOFFSETTO:+0100
TZNAME:CET
DTSTART:20251026T010000
END:STANDARD
BEGIN:DAYLIGHT
TZOFFSETFROM:+0100
TZOFFSETTO:+0200
TZNAME:CEST
DTSTART:20260329T010000
END:DAYLIGHT
BEGIN:STANDARD
TZOFFSETFROM:+0200
TZOFFSETTO:+0100
TZNAME:CET
DTSTART:20261025T010000
END:STANDARD
END:VTIMEZONE
BEGIN:VEVENT
DTSTART;VALUE=DATE:20250829
DTEND;VALUE=DATE:20250901
DTSTAMP:20260422T021255
CREATED:20250507T215425Z
LAST-MODIFIED:20260419T164928Z
UID:10000306-1756425600-1756684799@www.csainlazio.it
SUMMARY:VIBES - Summer Dance Camp Csain 2025
DESCRIPTION:Giorni Ore Minuti Secondi \nVIBES – Summer Dance Camp CSAIn 2025\nDal 29 al 31 agosto 2025 Francavilla al Mare (Pescara) si trasformerà in un palcoscenico a cielo aperto con il VIBES – Summer Dance Camp dello Csain Lazio\, tre giorni dedicati a danza\, musica ed emozioni uniche. \nUn’esperienza di studio e divertimento\nSe ami la danza e l’Hip Hop\, VIBES è il camp perfetto per te! Potrai: \n\n\nPartecipare a oltre 30 ore di lezioni con 13 docenti d’eccellenza; \n\n\nEsibirti su un grande palco all’aperto; \n\n\nRicevere un Attestato di Partecipazione Nazionale C.S.A.In. \n\n\nI protagonisti\nIl nostro corpo docenti ti offrirà una formazione di altissimo livello: \n\n\nMariam Alessio: Afrofusion\, collaboratrice di artisti internazionali come Flavour\, Yemi Alade\, Rema. \n\n\nSilvia Amicone: Propedeutica e tecnica classica\, docente presso i licei coreutici. \n\n\nCarlotta Bilato: Moderna e contemporanea\, ballerina e coreografa di grandi musical teatrali. \n\n\nIsabella Franceschini: Direttrice della International Ballet School\, membro CID UNESCO. \n\n\nLorenzo Iacono: Fondatore di KEEP UP e danzatore di IDENTITY. \n\n\nFederica Lardo: Prima ballerina in vent’anni di carriera televisiva con celebri coreografi. \n\n\nMoreno Mostrarda: Maestro di Hip Hop\, Locking e Popping\, giudice internazionale. \n\n\nTiziano Di Muzio: Coreografo\, regista e docente del Balletto di Roma. \n\n\nSilvio Tufanari: Regista e coreografo per artisti come Fedez\, J Ax e Maria De Filippi. \n\n\nPicca: Freestyler e performer internazionale\, protagonista del progetto MOVIMENTO. \n\n\nVicky: Creatrice di No Label Crew\, ballerina per Alessandra Amoroso e Jova Beach Party. \n\n\nAlice Zaccardi: Esperta di danza contemporanea e teatro danza\, laureata al Trinity Laban di Londra. \n\n\nEmilio Zavatta: Coreografo e performer di danza contemporanea\, produttore teatrale. \n\n\nProgramma e modalità di partecipazione\n\n\nDove: Centro sportivo in via Contrada Valle Anzuca\, Francavilla al Mare (CH). \n\n\nOrari: Lezioni dalle 10:00 alle 17:30 con pausa pranzo. \n\n\nLivelli: Classi per principianti (under 14) e intermedio/avanzato (over 14). \n\n\nImportante: iscrizione entro il 20 agosto 2025! Compila il modulo disponibile sul nostro sito\, allega documento d’identità e certificato medico. \nIscriviti ora!\n👉 Scarica il regolamento completo \nPer informazioni: \n\n\n📧 vibes@csainlazio.it \n\n\n📞 370 1337406 \n\n\n🌐 www.csainlazio.it \n\n\n📲 Seguici su Instagram: @vibes.csain e Facebook: VIBES dance camp CSAIn
URL:https://www.csainlazio.it/evento/vibes-summer-dance-camp-csain-2025/
LOCATION:francavilla a mare\, Francavilla a Mare\, Francavilla a Mare\, Italia
CATEGORIES:Danza
ATTACH;FMTTYPE=image/jpeg:https://www.csainlazio.it/wp-content/uploads/2025/05/ORIZZONTALE-3.jpg
ORGANIZER;CN="Settore Danza C.S.A.In Lazio":MAILTO:danza@csainlazio.it
END:VEVENT
END:VCALENDAR