BEGIN:VCALENDAR
VERSION:2.0
PRODID:-//Csain Lazio - ECPv6.15.20//NONSGML v1.0//EN
CALSCALE:GREGORIAN
METHOD:PUBLISH
X-ORIGINAL-URL:https://www.csainlazio.it
X-WR-CALDESC:Eventi per Csain Lazio
REFRESH-INTERVAL;VALUE=DURATION:PT1H
X-Robots-Tag:noindex
X-PUBLISHED-TTL:PT1H
BEGIN:VTIMEZONE
TZID:Europe/Rome
BEGIN:DAYLIGHT
TZOFFSETFROM:+0100
TZOFFSETTO:+0200
TZNAME:CEST
DTSTART:20240331T010000
END:DAYLIGHT
BEGIN:STANDARD
TZOFFSETFROM:+0200
TZOFFSETTO:+0100
TZNAME:CET
DTSTART:20241027T010000
END:STANDARD
BEGIN:DAYLIGHT
TZOFFSETFROM:+0100
TZOFFSETTO:+0200
TZNAME:CEST
DTSTART:20250330T010000
END:DAYLIGHT
BEGIN:STANDARD
TZOFFSETFROM:+0200
TZOFFSETTO:+0100
TZNAME:CET
DTSTART:20251026T010000
END:STANDARD
BEGIN:DAYLIGHT
TZOFFSETFROM:+0100
TZOFFSETTO:+0200
TZNAME:CEST
DTSTART:20260329T010000
END:DAYLIGHT
BEGIN:STANDARD
TZOFFSETFROM:+0200
TZOFFSETTO:+0100
TZNAME:CET
DTSTART:20261025T010000
END:STANDARD
END:VTIMEZONE
BEGIN:VEVENT
DTSTART;VALUE=DATE:20250530
DTEND;VALUE=DATE:20250603
DTSTAMP:20260421T160623
CREATED:20250307T172744Z
LAST-MODIFIED:20260419T164431Z
UID:10000304-1748563200-1748908799@www.csainlazio.it
SUMMARY:Salsitaly Summer Camp 2025: la 36ª Edizione dell’Evento Imperdibile
DESCRIPTION:Lo Csain Lazio è lieto di presentare la 36ª edizione del Salsitaly Summer Camp\, l’evento dedicato agli appassionati di danza e cultura latino-americana. Quest’anno l’appuntamento è fissato per il 30 e 31 maggio\, 1 e 2 giugno 2025\, quattro giorni di musica\, stage\, esibizioni e tanto divertimento in una location esclusiva. \nUn’esperienza unica tra danza e socialità\nSalsitaly Summer Camp è il punto di riferimento per tutti gli amanti della salsa e dei balli caraibici. Durante l’evento sarà possibile partecipare a: \n\nStage formativi con maestri di fama internazionale\nSpettacoli e show serali\nSocial dance e serate a tema\nAttività di intrattenimento e relax\n\nUn’opportunità per migliorare la propria tecnica di ballo\, vivere momenti di aggregazione e condividere la passione per la danza con ballerini provenienti da tutta Italia.
URL:https://www.csainlazio.it/evento/salsitaly-summer-camp-2025-la-36a-edizione-dellevento-imperdibile/
CATEGORIES:Danza,Eventi In Primo Piano
ATTACH;FMTTYPE=image/jpeg:https://www.csainlazio.it/wp-content/uploads/2025/03/SALSITALY.jpg
ORGANIZER;CN="Settore Danza C.S.A.In Lazio":MAILTO:danza@csainlazio.it
END:VEVENT
END:VCALENDAR