BEGIN:VCALENDAR
VERSION:2.0
PRODID:-//Csain Lazio - ECPv6.15.20//NONSGML v1.0//EN
CALSCALE:GREGORIAN
METHOD:PUBLISH
X-WR-CALNAME:Csain Lazio
X-ORIGINAL-URL:https://www.csainlazio.it
X-WR-CALDESC:Eventi per Csain Lazio
REFRESH-INTERVAL;VALUE=DURATION:PT1H
X-Robots-Tag:noindex
X-PUBLISHED-TTL:PT1H
BEGIN:VTIMEZONE
TZID:Europe/Rome
BEGIN:DAYLIGHT
TZOFFSETFROM:+0100
TZOFFSETTO:+0200
TZNAME:CEST
DTSTART:20240331T010000
END:DAYLIGHT
BEGIN:STANDARD
TZOFFSETFROM:+0200
TZOFFSETTO:+0100
TZNAME:CET
DTSTART:20241027T010000
END:STANDARD
BEGIN:DAYLIGHT
TZOFFSETFROM:+0100
TZOFFSETTO:+0200
TZNAME:CEST
DTSTART:20250330T010000
END:DAYLIGHT
BEGIN:STANDARD
TZOFFSETFROM:+0200
TZOFFSETTO:+0100
TZNAME:CET
DTSTART:20251026T010000
END:STANDARD
BEGIN:DAYLIGHT
TZOFFSETFROM:+0100
TZOFFSETTO:+0200
TZNAME:CEST
DTSTART:20260329T010000
END:DAYLIGHT
BEGIN:STANDARD
TZOFFSETFROM:+0200
TZOFFSETTO:+0100
TZNAME:CET
DTSTART:20261025T010000
END:STANDARD
END:VTIMEZONE
BEGIN:VEVENT
DTSTART;TZID=Europe/Rome:20250302T083000
DTEND;TZID=Europe/Rome:20250302T140000
DTSTAMP:20260421T192109
CREATED:20250218T191528Z
LAST-MODIFIED:20260419T164437Z
UID:10000301-1740904200-1740924000@www.csainlazio.it
SUMMARY:1° Trofeo Karate Tuscania - Kata Competition
DESCRIPTION:Il Comitato Regionale CSAIn Lazio – Settore Karate organizza il 1° Trofeo Karate Tuscania\, una competizione dedicata alla specialità Kata\, che si terrà il 2 marzo 2025 presso il Palazzetto dello Sport “Olivo” a Tuscania (VT). \nL’evento è aperto a tutte le fasce d’età e livelli\, dalle categorie Preagonisti fino ai Master\, includendo anche la competizione di ParaKarate. \nDettagli dell’evento\n\nData: Domenica 2 marzo 2025\nLuogo: Palazzetto dello Sport “Olivo” – Via dell’Olivo\, snc – 01017 Tuscania (VT)\nSpecialità: Kata (individuale e a squadre)\nCategorie:\n\nPreagonisti: Samurai\, Bambini\, Fanciulli\, Ragazzi\nAgonisti: Esordienti\, Cadetti\, Junior\, Senior\, Master\nAtleti Speciali: Competizione dedicata per atleti con esigenze particolari\n\n\n\nProgramma della giornata\n\n08:30 – Arrivo degli atleti\n09:00 – Saluto di benvenuto e inizio gare per le categorie Master e Seniores\n09:30 – Gare per le categorie Samurai\, Bambini e Fanciulli\n10:00 – Competizione ParaKarate (se il numero di partecipanti lo consente)\n10:30 – Gare per le categorie Ragazzi\, Esordienti e Cadetti\n11:30 – Gare per Cadetti e Juniores\n12:30 – Gare a squadre\n\nGli orari dettagliati saranno comunicati dopo la chiusura delle iscrizioni e la compilazione dei tabelloni gara. \nIscrizioni\n\nScadenza iscrizioni: Domenica 23 febbraio 2025\nQuota individuale: €20\,00\nQuota per squadra: €15\,00 (€5\,00 per atleta)\nModalità di iscrizione: Compilazione e invio del modulo di iscrizione all’indirizzo infokarate@csainlazio.it\n\nRegolamento\nLe competizioni seguiranno il regolamento CSAIn 2025 e le linee guida dell’arbitraggio WKF. Saranno previste valutazioni numeriche e premiazioni per tutte le categorie\, con riconoscimenti per tutti i partecipanti. \nContatti\n\nM° Francesco Di Campli – Riferimento Karate Viterbo | Tel. 3493566624\nM° Marco Cocci – Riferimento Settore Karate | Tel. 3881215211\nM° Stefano Pioli – Riferimento Settore Arbitrale | Tel. 3385816960\nEmail: infokarate@csainlazio.it\n\nL’evento è patrocinato dal Comitato Regionale CSAIn Lazio e supportato dalle istituzioni locali. \nNon perdere l’occasione di vivere una giornata all’insegna del karate\, della competizione e del rispetto delle tradizioni marziali. \nVi aspettiamo numerosi! \n\nCOMUNICATO GARA\n\n\nREGOLAMENTO GARA\n\n\nMODULO D ISCRIZIONE KATA INDIVIDUALE\n\n\nMODULO E ISCRIZIONE KATA A SQUADRE
URL:https://www.csainlazio.it/evento/1-trofeo-karate-tuscania-kata-competition/
LOCATION:Palazzetto dello Sport “Olivo”\, Via dell’Olivo\, snc\, Tuscania\, 01017\, Italy
CATEGORIES:Eventi In Primo Piano,Eventi Viterbo,Karate
ATTACH;FMTTYPE=image/webp:https://www.csainlazio.it/wp-content/uploads/2025/02/ORIZONTALE.webp
END:VEVENT
END:VCALENDAR