BEGIN:VCALENDAR
VERSION:2.0
PRODID:-//Csain Lazio - ECPv6.15.20//NONSGML v1.0//EN
CALSCALE:GREGORIAN
METHOD:PUBLISH
X-WR-CALNAME:Csain Lazio
X-ORIGINAL-URL:https://www.csainlazio.it
X-WR-CALDESC:Eventi per Csain Lazio
REFRESH-INTERVAL;VALUE=DURATION:PT1H
X-Robots-Tag:noindex
X-PUBLISHED-TTL:PT1H
BEGIN:VTIMEZONE
TZID:Europe/Rome
BEGIN:DAYLIGHT
TZOFFSETFROM:+0100
TZOFFSETTO:+0200
TZNAME:CEST
DTSTART:20240331T010000
END:DAYLIGHT
BEGIN:STANDARD
TZOFFSETFROM:+0200
TZOFFSETTO:+0100
TZNAME:CET
DTSTART:20241027T010000
END:STANDARD
BEGIN:DAYLIGHT
TZOFFSETFROM:+0100
TZOFFSETTO:+0200
TZNAME:CEST
DTSTART:20250330T010000
END:DAYLIGHT
BEGIN:STANDARD
TZOFFSETFROM:+0200
TZOFFSETTO:+0100
TZNAME:CET
DTSTART:20251026T010000
END:STANDARD
BEGIN:DAYLIGHT
TZOFFSETFROM:+0100
TZOFFSETTO:+0200
TZNAME:CEST
DTSTART:20260329T010000
END:DAYLIGHT
BEGIN:STANDARD
TZOFFSETFROM:+0200
TZOFFSETTO:+0100
TZNAME:CET
DTSTART:20261025T010000
END:STANDARD
END:VTIMEZONE
BEGIN:VEVENT
DTSTART;TZID=Europe/Rome:20250125T080000
DTEND;TZID=Europe/Rome:20250125T170000
DTSTAMP:20260421T174130
CREATED:20250108T163142Z
LAST-MODIFIED:20260419T164441Z
UID:10000271-1737792000-1737824400@www.csainlazio.it
SUMMARY:Campionato di Ginnastica Artistica CSAIN Lazio 2025
DESCRIPTION:Siamo lieti di annunciare il Campionato di Ginnastica Artistica dello CSAIN Lazio 2025\, un evento imperdibile che vedrà la partecipazione di atleti e atlete provenienti da tutta la regione. Preparati a vivere l’emozione di competizioni avvincenti e performance di altissimo livello! 🏆✨ \nEcco il calendario ufficiale: \nDate e Luoghi 📅\n\n25-26 gennaio: GAF (Categorie A-B-C1) e GAM (Categorie A-B-C-D)\n📍 EUR\, Via Fiume – Bianco 75\n01-02 febbraio: GAF (Categoria D)\n📍 Juvenia\, Giustiniana\n08-09 febbraio: GAF (Categoria C2) + SuperGym\n📍 Juvenia\, Giustiniana\n15-16 febbraio: SuperGym ALL + RAG/JUN\n📍 Kines Roma\, Via Filacciano 5\n22-23 febbraio: SuperGym PR/PUL + GAM\n📍 Kines Roma\, Via Filacciano 5\n15-16 marzo: GAF (Categorie A-B-C1) e GAM (Categorie A-B-C-D)\n📍 EUR\, Via Fiume – Bianco 75\n22-23 marzo: GAF (Categorie C2+D\, alcune categorie)\n📍 EUR\, Via Fiume – Bianco 76\n29-30 marzo: GAF (Categoria D) + SuperGym\n📍 Kines Roma\, Via Filacciano 5\n5-6 aprile: SuperGym ALL + RAG/JUN\n📍 Kines Roma\, Via Filacciano 5\n12-13 aprile: SuperGym PR/PUL + GAM\n📍 Kines Roma\, Via Filacciano 5\nMaggio (17-18 o 24-25): Coppa Lazio\n📍 EUR\, Via Fiume – Bianco 75\n5-8 giugno: Campionato Nazionale\n📍 Cesenatico\n\nCosa aspettarsi? 🌟\nUn’occasione unica per supportare i talenti emergenti della ginnastica artistica e vivere l’entusiasmo delle competizioni in un ambiente accogliente e professionale. Atleti e famiglie potranno godere di un evento organizzato con cura e passione. \n💡 Nota bene: Alcune date potrebbero subire variazioni. Per aggiornamenti e dettagli\, continuate a seguire il nostro sito ufficiale e i nostri canali social.
URL:https://www.csainlazio.it/evento/campionato-di-ginnastica-artistica-csain-lazio-2025/2025-01-25/
LOCATION:Palestra Kines\, Via Filaccino\, 5\, Roma\, 00176\, Italia
CATEGORIES:Eventi In Primo Piano,Ginnastica Artistica
ATTACH;FMTTYPE=image/jpeg:https://www.csainlazio.it/wp-content/uploads/2025/01/ORIZONTALE.jpg
ORGANIZER;CN="Settore Ginnastica Artistica":MAILTO:artistica@csainlazio.it
END:VEVENT
BEGIN:VEVENT
DTSTART;TZID=Europe/Rome:20250125T150000
DTEND;TZID=Europe/Rome:20250125T230000
DTSTAMP:20260421T174130
CREATED:20241202T232734Z
LAST-MODIFIED:20260419T164440Z
UID:10000267-1737817200-1737846000@www.csainlazio.it
SUMMARY:Rough Battle 2025
DESCRIPTION:ROUGH BATTLE 2025\n📅 Data: 25 gennaio 2025\n📍 Location: Planet Sport\, Via Appia Nuova\, 665\, Roma (Metro A – Colli Albani) \nUnisciti al più emozionante contest di danza 1vs1! Aperto a ballerini di ogni stile e livello\, la Rough Battle ti sfiderà con musica mixata dal vivo da DJ esperti\, passando attraverso Funk\, Hip Hop\, Elettronica e Sperimentale. \nCategorie disponibili: \n\nKids Under 11\nKids Under 16\nOpen Hip Hop\n\nCosa ti aspetta:\n⭐ Showcase e preselezioni per tutti i partecipanti.\n⭐ Final 8 con sfide spettacolari e la possibilità di vincere premi incredibili!\n⭐ Giuria internazionale con ospiti di prestigio come Sponky Love (Belgio). \nCosti di partecipazione:\n💵 €15\,00 (bonifico) | €18\,00 (in loco) \n📥 Scarica subito il Regolamento completo e il Modulo di Iscrizione ai seguenti link: \n\nScarica il Regolamento\nScarica il Modulo di Iscrizione\n\n📧 Per completare l’iscrizione: invia il modulo compilato e la distinta di pagamento a danza@csainlazio.it o consegnali in loco. \n🎟️ Biglietti per il pubblico: €5\,00 (acquistabili in loco fino a esaurimento posti). \nNon aspettare\, iscriviti ora e preparati per una giornata di pura adrenalina!
URL:https://www.csainlazio.it/evento/rough-battle-2025-2/
LOCATION:Planet Sport\, via Appia Nuova 665\, Roma\, Italy
CATEGORIES:Eventi In Primo Piano,Eventi Roma
ATTACH;FMTTYPE=image/jpeg:https://www.csainlazio.it/wp-content/uploads/2024/12/ROUGH-BATTLE-2.jpg
ORGANIZER;CN="Settore Danza C.S.A.In Lazio":MAILTO:danza@csainlazio.it
END:VEVENT
BEGIN:VEVENT
DTSTART;TZID=Europe/Rome:20250126T080000
DTEND;TZID=Europe/Rome:20250126T170000
DTSTAMP:20260421T174130
CREATED:20250108T163142Z
LAST-MODIFIED:20260419T164441Z
UID:10000272-1737878400-1737910800@www.csainlazio.it
SUMMARY:Campionato di Ginnastica Artistica CSAIN Lazio 2025
DESCRIPTION:Siamo lieti di annunciare il Campionato di Ginnastica Artistica dello CSAIN Lazio 2025\, un evento imperdibile che vedrà la partecipazione di atleti e atlete provenienti da tutta la regione. Preparati a vivere l’emozione di competizioni avvincenti e performance di altissimo livello! 🏆✨ \nEcco il calendario ufficiale: \nDate e Luoghi 📅\n\n25-26 gennaio: GAF (Categorie A-B-C1) e GAM (Categorie A-B-C-D)\n📍 EUR\, Via Fiume – Bianco 75\n01-02 febbraio: GAF (Categoria D)\n📍 Juvenia\, Giustiniana\n08-09 febbraio: GAF (Categoria C2) + SuperGym\n📍 Juvenia\, Giustiniana\n15-16 febbraio: SuperGym ALL + RAG/JUN\n📍 Kines Roma\, Via Filacciano 5\n22-23 febbraio: SuperGym PR/PUL + GAM\n📍 Kines Roma\, Via Filacciano 5\n15-16 marzo: GAF (Categorie A-B-C1) e GAM (Categorie A-B-C-D)\n📍 EUR\, Via Fiume – Bianco 75\n22-23 marzo: GAF (Categorie C2+D\, alcune categorie)\n📍 EUR\, Via Fiume – Bianco 76\n29-30 marzo: GAF (Categoria D) + SuperGym\n📍 Kines Roma\, Via Filacciano 5\n5-6 aprile: SuperGym ALL + RAG/JUN\n📍 Kines Roma\, Via Filacciano 5\n12-13 aprile: SuperGym PR/PUL + GAM\n📍 Kines Roma\, Via Filacciano 5\nMaggio (17-18 o 24-25): Coppa Lazio\n📍 EUR\, Via Fiume – Bianco 75\n5-8 giugno: Campionato Nazionale\n📍 Cesenatico\n\nCosa aspettarsi? 🌟\nUn’occasione unica per supportare i talenti emergenti della ginnastica artistica e vivere l’entusiasmo delle competizioni in un ambiente accogliente e professionale. Atleti e famiglie potranno godere di un evento organizzato con cura e passione. \n💡 Nota bene: Alcune date potrebbero subire variazioni. Per aggiornamenti e dettagli\, continuate a seguire il nostro sito ufficiale e i nostri canali social.
URL:https://www.csainlazio.it/evento/campionato-di-ginnastica-artistica-csain-lazio-2025/2025-01-26/
LOCATION:Palestra Kines\, Via Filaccino\, 5\, Roma\, 00176\, Italia
CATEGORIES:Eventi In Primo Piano,Ginnastica Artistica
ATTACH;FMTTYPE=image/jpeg:https://www.csainlazio.it/wp-content/uploads/2025/01/ORIZONTALE.jpg
ORGANIZER;CN="Settore Ginnastica Artistica":MAILTO:artistica@csainlazio.it
END:VEVENT
BEGIN:VEVENT
DTSTART;TZID=Europe/Rome:20250126T083000
DTEND;TZID=Europe/Rome:20250126T150000
DTSTAMP:20260421T174130
CREATED:20250115T170006Z
LAST-MODIFIED:20260419T164440Z
UID:10000287-1737880200-1737903600@www.csainlazio.it
SUMMARY:1ª Tappa Circuito Nuoto CSAIn Lazio - 12ª Edizione
DESCRIPTION:Il 26 gennaio 2025 si svolgerà la prima tappa della 12ª edizione del Circuito Nuoto CSAIn Lazio presso la Piscina Comunale di Tivoli\, in Via Empolitana KM.3\, Tivoli. \nGare in programma\n\nEsordienti C: 25mt Stile Libero\, 25mt Rana\nEsordienti B/A/Unica: 50mt Stile Libero\, 50mt Rana\n\nOrari delle gare\n\nEsordienti C: Riscaldamento ore 08:45\, inizio gara ore 09:00\nEsordienti B/A/Unica: Riscaldamento ore 11:00\, inizio gara ore 11:15\n\nIscrizioni e informazioni\nLe iscrizioni devono essere effettuate entro il 22 gennaio 2025 esclusivamente sulla piattaforma www.nuotoprint.it. Non saranno accettate iscrizioni sul campo gara. \nPremiazioni\nTutti i partecipanti riceveranno una medaglia. \n\nEsordienti C: Premiazione per anno di nascita\nEsordienti B/A/Unica: Premiazione per categoria\n\nPer maggiori informazioni:📩 csainnuoto@libero.it | 📞 3470071819 \nNon perdere questa straordinaria giornata dedicata al nuoto!
URL:https://www.csainlazio.it/evento/1a-tappa-circuito-nuoto-csain-lazio-12a-edizione/
LOCATION:Piscina Comunale Tivoli\, Via Empolitana\, Tivoli\, 00019\, Italia
CATEGORIES:Eventi In Primo Piano,Eventi Roma,Nuoto
ATTACH;FMTTYPE=image/jpeg:https://www.csainlazio.it/wp-content/uploads/2025/01/nuoto.jpg
ORGANIZER;CN="Settore Nuoto C.S.A.In Lazio":MAILTO:nuoto@csainlazio.it
GEO:41.9486386;12.8327041
X-APPLE-STRUCTURED-LOCATION;VALUE=URI;X-ADDRESS=Piscina Comunale Tivoli Via Empolitana Tivoli 00019 Italia;X-APPLE-RADIUS=500;X-TITLE=Via Empolitana:geo:12.8327041,41.9486386
END:VEVENT
END:VCALENDAR