BEGIN:VCALENDAR
VERSION:2.0
PRODID:-//Csain Lazio - ECPv6.15.20//NONSGML v1.0//EN
CALSCALE:GREGORIAN
METHOD:PUBLISH
X-WR-CALNAME:Csain Lazio
X-ORIGINAL-URL:https://www.csainlazio.it
X-WR-CALDESC:Eventi per Csain Lazio
REFRESH-INTERVAL;VALUE=DURATION:PT1H
X-Robots-Tag:noindex
X-PUBLISHED-TTL:PT1H
BEGIN:VTIMEZONE
TZID:Europe/Rome
BEGIN:DAYLIGHT
TZOFFSETFROM:+0100
TZOFFSETTO:+0200
TZNAME:CEST
DTSTART:20230326T010000
END:DAYLIGHT
BEGIN:STANDARD
TZOFFSETFROM:+0200
TZOFFSETTO:+0100
TZNAME:CET
DTSTART:20231029T010000
END:STANDARD
BEGIN:DAYLIGHT
TZOFFSETFROM:+0100
TZOFFSETTO:+0200
TZNAME:CEST
DTSTART:20240331T010000
END:DAYLIGHT
BEGIN:STANDARD
TZOFFSETFROM:+0200
TZOFFSETTO:+0100
TZNAME:CET
DTSTART:20241027T010000
END:STANDARD
BEGIN:DAYLIGHT
TZOFFSETFROM:+0100
TZOFFSETTO:+0200
TZNAME:CEST
DTSTART:20250330T010000
END:DAYLIGHT
BEGIN:STANDARD
TZOFFSETFROM:+0200
TZOFFSETTO:+0100
TZNAME:CET
DTSTART:20251026T010000
END:STANDARD
END:VTIMEZONE
BEGIN:VEVENT
DTSTART;TZID=Europe/Rome:20240921T080000
DTEND;TZID=Europe/Rome:20240921T140000
DTSTAMP:20260423T022153
CREATED:20240904T165228Z
LAST-MODIFIED:20260419T164445Z
UID:10000237-1726905600-1726927200@www.csainlazio.it
SUMMARY:Corso di formazione Esecutore NPS-BLSD-PBLSD
DESCRIPTION:Il nostro corso di formazione Esecutore Nps – Blsd – PBLSD è progettato per fornire ai partecipanti le competenze necessarie per affrontare situazioni di emergenza e salvare vite umane. Questo corso completo ed esaustivo è adatto a tutti coloro che desiderano acquisire conoscenze e abilità fondamentali nelle tecniche di rianimazione cardiopolmonare e nell’utilizzo del defibrillatore. \nDurante il corso\, i partecipanti apprenderanno le più recenti linee guida internazionali sulla rianimazione cardiopolmonare (RCP) e sull’uso del defibrillatore automatico esterno (DAE). Attraverso lezioni teoriche e sessioni pratiche\, i nostri istruttori altamente qualificati guideranno i partecipanti nell’acquisizione delle competenze necessarie per riconoscere e gestire situazioni di arresto cardiaco\, ostruzione delle vie aeree e altre emergenze mediche. \nIl corso copre una vasta gamma di argomenti\, tra cui: \n– Valutazione della scena e della sicurezza \n– Riconoscimento dei segni e dei sintomi dell’arresto cardiaco \n– Esecuzione della RCP di alta qualità per adulti\, bambini e neonati \n– Utilizzo del DAE in modo sicuro ed efficace \n– Gestione dell’ostruzione delle vie aeree da corpo estraneo \n– Tecniche di primo soccorso per altre emergenze mediche comuni \nAlla fine del corso\, i partecipanti saranno in grado di intervenire con sicurezza e competenza in caso di emergenza\, aumentando significativamente le possibilità di sopravvivenza delle vittime. Inoltre\, riceveranno una certificazione riconosciuta a livello nazionale\, validando le loro competenze come esecutori Nps – Blsd – PBLSD.
URL:https://www.csainlazio.it/evento/corso-di-formazione-esecutore-nps-blsd-pblsd/
LOCATION:Kombat Gym\, Via delle Palme 40F\, ROMA\, 00171\, Italy
ATTACH;FMTTYPE=image/jpeg:https://www.csainlazio.it/wp-content/uploads/2024/09/orizzontale.jpg
ORGANIZER;CN="Csain Lazio":MAILTO:segreteria@csainlazio.it
END:VEVENT
END:VCALENDAR