BEGIN:VCALENDAR
VERSION:2.0
PRODID:-//Csain Lazio - ECPv6.15.20//NONSGML v1.0//EN
CALSCALE:GREGORIAN
METHOD:PUBLISH
X-ORIGINAL-URL:https://www.csainlazio.it
X-WR-CALDESC:Eventi per Csain Lazio
REFRESH-INTERVAL;VALUE=DURATION:PT1H
X-Robots-Tag:noindex
X-PUBLISHED-TTL:PT1H
BEGIN:VTIMEZONE
TZID:Europe/Rome
BEGIN:DAYLIGHT
TZOFFSETFROM:+0100
TZOFFSETTO:+0200
TZNAME:CEST
DTSTART:20230326T010000
END:DAYLIGHT
BEGIN:STANDARD
TZOFFSETFROM:+0200
TZOFFSETTO:+0100
TZNAME:CET
DTSTART:20231029T010000
END:STANDARD
BEGIN:DAYLIGHT
TZOFFSETFROM:+0100
TZOFFSETTO:+0200
TZNAME:CEST
DTSTART:20240331T010000
END:DAYLIGHT
BEGIN:STANDARD
TZOFFSETFROM:+0200
TZOFFSETTO:+0100
TZNAME:CET
DTSTART:20241027T010000
END:STANDARD
BEGIN:DAYLIGHT
TZOFFSETFROM:+0100
TZOFFSETTO:+0200
TZNAME:CEST
DTSTART:20250330T010000
END:DAYLIGHT
BEGIN:STANDARD
TZOFFSETFROM:+0200
TZOFFSETTO:+0100
TZNAME:CET
DTSTART:20251026T010000
END:STANDARD
END:VTIMEZONE
BEGIN:VEVENT
DTSTART;TZID=Europe/Rome:20240609T080000
DTEND;TZID=Europe/Rome:20240609T143000
DTSTAMP:20260423T022355
CREATED:20240411T083256Z
LAST-MODIFIED:20260419T164454Z
UID:10000228-1717920000-1717943400@www.csainlazio.it
SUMMARY:Campionato Primavera Tennis - Coppa Csain Lazio
DESCRIPTION:L’attesa è finalmente terminata per tutti gli appassionati di tennis della regione Lazio. È con grande piacere che annunciamo l’apertura delle iscrizioni al prestigioso Campionato Primavera Tennis – Coppa Csain Lazio. Questo torneo\, che si svolge annualmente\, rappresenta un’occasione imperdibile per tutti gli atleti che desiderano mettere alla prova il proprio talento e la propria passione per il tennis\, confrontandosi con i migliori giocatori della regione. \nIl Campionato si articolerà in diverse date chiave\, che gli atleti e gli appassionati sono invitati a segnare nei loro calendari: \n\n14 Aprile\n21 Aprile\n15 Maggio\n19 Maggio\n09 Giugno: FINALI.\n\nTutti gli incontri si svolgeranno nella splendida cornice di Roma\, una città che offre non solo un contesto storico e culturale di rilievo\, ma anche impianti sportivi all’avanguardia\, capaci di ospitare eventi di tale importanza. \nIl Campionato Primavera Tennis – Coppa Csain Lazio è aperto a tutti gli atleti che desiderano partecipare\, senza distinzioni. La nostra missione è quella di promuovere lo sport e il tennis in particolare\, incoraggiando la partecipazione di giocatori di ogni livello\, dalla categoria giovanile agli adulti\, sia maschile che femminile.
URL:https://www.csainlazio.it/evento/campionato-primavera-tennis-coppa-csain-lazio/2024-06-09/
LOCATION:ROMA\, Italia
CATEGORIES:Eventi Roma,Tennis
ATTACH;FMTTYPE=image/jpeg:https://www.csainlazio.it/wp-content/uploads/2024/04/COPPA-PRIMAVERA-TENNIS-4.jpg
ORGANIZER;CN="Settore Tennis":MAILTO:tennis@csainlazio.it
END:VEVENT
BEGIN:VEVENT
DTSTART;TZID=Europe/Rome:20240609T080000
DTEND;TZID=Europe/Rome:20240609T170000
DTSTAMP:20260423T022355
CREATED:20240404T153438Z
LAST-MODIFIED:20260419T164453Z
UID:10000223-1717920000-1717952400@www.csainlazio.it
SUMMARY:Nuoto Master - Divertiamoci nuotando
DESCRIPTION:La manifestazione sportiva in programma per la stagione 2023-2024 rappresenta un evento esclusivo e di prestigio riservato agli atleti adulti iscritti alle Scuole Nuoto delle Società affiliate al Csain. Questo appuntamento annuale offre un’opportunità unica per i nuotatori di confrontarsi in un contesto competitivo costruttivo e stimolante\, promuovendo al contempo i valori dello sport\, del fair play e della sana competizione. \nLa competizione si terrà presso l’impianto della SSD ATLANTIDE\, situato in Via Mura dei Francesi 179 b\, Ciampino-Roma. Questa location è stata scelta per le sue eccellenti strutture e per la capacità di ospitare eventi sportivi di alto livello. \nL’evento si articolerà su tre giornate distinte: \n\nPrima giornata: 28 Aprile 2024\, dalle ore 8:00 alle ore 14:00.\nSeconda giornata: 19 Maggio 2024\, dalle ore 8:00 alle ore 14:00.\nGiornata delle finali: 9 Giugno 2024\, dalle ore 8:00 alle ore 14:00.\n\nLa manifestazione è aperta esclusivamente agli adulti regolarmente iscritti e frequentanti le Scuole Nuoto delle Società affiliate al C.S.A.In. Gli atleti saranno suddivisi in categorie denominate “Master”\, in base a fasce d’appartenenza stabilite dal regolamento. Si sottolinea che è fatto divieto assoluto di partecipazione ai tesserati Master della Federazione Italiana Nuoto (FIN). \nScarica il regolamento
URL:https://www.csainlazio.it/evento/nuoto-master-divertiamoci-nuotando/2024-06-09/
LOCATION:PISCINA SSD ATLANTIDE\, Via Mura dei Francesi 179 B\, Ciampino (RM)\, Italia
CATEGORIES:Eventi Roma,Nuoto
ATTACH;FMTTYPE=image/jpeg:https://www.csainlazio.it/wp-content/uploads/2024/04/NUOTO-MASTER.jpg
ORGANIZER;CN="Settore Nuoto C.S.A.In Lazio":MAILTO:nuoto@csainlazio.it
END:VEVENT
BEGIN:VEVENT
DTSTART;TZID=Europe/Rome:20240609T080000
DTEND;TZID=Europe/Rome:20240609T200000
DTSTAMP:20260423T022355
CREATED:20240518T173941Z
LAST-MODIFIED:20260419T164447Z
UID:10000233-1717920000-1717963200@www.csainlazio.it
SUMMARY:1° GRAND PRIX KARATE LAZIO
DESCRIPTION:Il 1° Grand Prix Karate Lazio è un evento imperdibile per tutti gli appassionati di arti marziali\, in programma Domenica 9 Giugno 2024 presso il Palazzetto dello Sport di Fiano Romano\, situato in via Tiberina Km 21.500 – 00065 Fiano Romano (RM). \nL’evento\, organizzato con la massima cura e professionalità\, si focalizza sulla specialità del Kumite\, offrendo un’opportunità unica per atleti di diverse fasce d’età di mettersi alla prova e competere ad alto livello. Le categorie previste sono: \n\nU12 (Ragazzi)\nU14 (Esordienti)\nCADETTI\nJUNIORES\nSENIORES\n\nIl Grand Prix rappresenta un’occasione straordinaria per promuovere la disciplina del Karate\, favorendo l’incontro e il confronto tra atleti provenienti da tutta la regione Lazio. \nL’evento si propone di valorizzare i principi fondamentali di questa arte marziale\, quali il rispetto\, la determinazione e il controllo di sé\, in un contesto agonistico di alto profilo. \nLa location scelta\, il Palazzetto dello Sport di Fiano Romano\, offre un’infrastruttura moderna e funzionale\, in grado di accogliere atleti e spettatori in un ambiente confortevole e sicuro. \nLa struttura è facilmente raggiungibile grazie alla sua posizione strategica lungo la via Tiberina.L’organizzazione del 1° Grand Prix Karate Lazio pone grande attenzione alla qualità dell’evento\, garantendo un’esperienza indimenticabile per tutti i partecipanti. \nArbitri qualificati e uno staff esperto assicureranno il regolare svolgimento delle competizioni\, nel pieno rispetto delle norme e dei regolamenti previsti.Non perdete l’opportunità di prendere parte a questo straordinario evento\, che si preannuncia come un momento di grande sport\, passione e condivisione. \nSegnate in agenda la data: Domenica 9 Giugno 2024\, il 1° Grand Prix Karate Lazio vi aspetta per una giornata all’insegna dell’adrenalina e dell’eccellenza marziale. \nSCARICA IL REGOLAMENTO \nSCARICA IL MODULO PER L’ISCRIZIONE \n 
URL:https://www.csainlazio.it/evento/1-grand-prix-karate-lazio/
LOCATION:Palazzetto dello Sport di Fiano Romano\, via Tiberina Km 21.500\, Fiano Romano\, 00065\, Italia
CATEGORIES:Eventi In Primo Piano,Eventi Roma,Karate
ATTACH;FMTTYPE=image/jpeg:https://www.csainlazio.it/wp-content/uploads/2024/05/grand-prix-di-karate.jpg
ORGANIZER;CN="Settore Karate Csain Lazio":MAILTO:infokarate@csainlazio.it
END:VEVENT
END:VCALENDAR