BEGIN:VCALENDAR
VERSION:2.0
PRODID:-//Csain Lazio - ECPv6.15.20//NONSGML v1.0//EN
CALSCALE:GREGORIAN
METHOD:PUBLISH
X-ORIGINAL-URL:https://www.csainlazio.it
X-WR-CALDESC:Eventi per Csain Lazio
REFRESH-INTERVAL;VALUE=DURATION:PT1H
X-Robots-Tag:noindex
X-PUBLISHED-TTL:PT1H
BEGIN:VTIMEZONE
TZID:Europe/Rome
BEGIN:DAYLIGHT
TZOFFSETFROM:+0100
TZOFFSETTO:+0200
TZNAME:CEST
DTSTART:20230326T010000
END:DAYLIGHT
BEGIN:STANDARD
TZOFFSETFROM:+0200
TZOFFSETTO:+0100
TZNAME:CET
DTSTART:20231029T010000
END:STANDARD
BEGIN:DAYLIGHT
TZOFFSETFROM:+0100
TZOFFSETTO:+0200
TZNAME:CEST
DTSTART:20240331T010000
END:DAYLIGHT
BEGIN:STANDARD
TZOFFSETFROM:+0200
TZOFFSETTO:+0100
TZNAME:CET
DTSTART:20241027T010000
END:STANDARD
BEGIN:DAYLIGHT
TZOFFSETFROM:+0100
TZOFFSETTO:+0200
TZNAME:CEST
DTSTART:20250330T010000
END:DAYLIGHT
BEGIN:STANDARD
TZOFFSETFROM:+0200
TZOFFSETTO:+0100
TZNAME:CET
DTSTART:20251026T010000
END:STANDARD
END:VTIMEZONE
BEGIN:VEVENT
DTSTART;TZID=Europe/Rome:20240511T100000
DTEND;TZID=Europe/Rome:20240511T183000
DTSTAMP:20260423T040622
CREATED:20240419T092325Z
LAST-MODIFIED:20260419T164452Z
UID:10000230-1715421600-1715452200@www.csainlazio.it
SUMMARY:COMBATTIAMO IN AMICIZIA
DESCRIPTION:Nel cuore verde di Roma\, il Parco della Caffarella diventa il palcoscenico di un evento unico nel suo genere\, “COMBATTIAMO IN AMICIZIA”\, inserito nel progetto di grande impatto sociale “Tornare a vivere in libertà”. Una giornata dedicata al benessere fisico e mentale attraverso la pratica di arti marziali\, un’occasione imperdibile per riscoprire il valore dell’amicizia e del rispetto reciproco. \nATTIVITÀ PROPOSTE \n\n– Karate: Scopri la disciplina e la forza interiore con maestri qualificati.\n– Jeet Kune Do: Avvicinati alla filosofia marziale di Bruce Lee\, per una mente agile in un corpo agile.\n– Wing Chun: Esplora l’arte marziale cinese che combina auto-difesa e crescita personale.\n\nE non finisce qui! L’evento è aperto a tutti: bambini\, ragazzi e adulti\, indipendentemente dall’esperienza pregressa. “COMBATTIAMO IN AMICIZIA” è più di un semplice appuntamento sportivo; è una celebrazione della vita\, della libertà e della capacità di superare insieme le sfide. \n\nPERCHÉ PARTECIPARE?\n– Inclusività: Un evento pensato per accogliere tutti\, promuovendo l’integrazione attraverso lo sport.\n– Educazione: Le arti marziali insegnano discipline\, rispetto per gli altri e per se stessi.\n– Divertimento: Una giornata all’insegna del divertimento\, dell’apprendimento e dell’amicizia.\n– Salute: Migliora la tua forma fisica\, riduci lo stress e rafforza la tua autostima.\n\nDATA E LUOGO \n\n– Data: 11 Maggio 2024\n– Luogo: Parco della Caffarella\, Roma\n– Orario: Dalle 10:00 fino al tramonto\n\nNon perdere questa incredibile opportunità di crescere\, imparare e divertirti in un ambiente sano e stimolante. “COMBATTIAMO IN AMICIZIA” ti aspetta!
URL:https://www.csainlazio.it/evento/combattiamo-in-amicizia/
LOCATION:PARCO DELLA CAFFARELLA\, ROMA\, largo pietro tacchi venturi\, ROMA\, Italia
CATEGORIES:Eventi Roma
ATTACH;FMTTYPE=image/jpeg:https://www.csainlazio.it/wp-content/uploads/2024/04/GIOCHIAMO-INSIEME-6.jpg
ORGANIZER;CN="Csain Lazio":MAILTO:segreteria@csainlazio.it
END:VEVENT
BEGIN:VEVENT
DTSTART;TZID=Europe/Rome:20240511T100000
DTEND;TZID=Europe/Rome:20240511T183000
DTSTAMP:20260423T040622
CREATED:20240419T093847Z
LAST-MODIFIED:20260419T164451Z
UID:10000231-1715421600-1715452200@www.csainlazio.it
SUMMARY:GIOCHIAMO INSIEME
DESCRIPTION:GIOCHIAMO INSIEME – Unisciti a Noi al Parco della Caffarella\, Roma \nIn una splendida giornata di primavera\, il 11 Maggio 2024\, il Parco della Caffarella a Roma aprirà i suoi vasti spazi verdi per accogliere un evento unico nel suo genere: “GIOCHIAMO INSIEME”. Questa giornata speciale è parte integrante del nostro progetto “Tornare a vivere in libertà”\, un’iniziativa pensata per riconnettere la comunità dopo tempi sfidanti\, promuovendo attività all’aperto\, giochi ed esperienze condivise. \nPerché Partecipare? \n“GIOCHIAMO INSIEME” è più di un semplice evento; è una celebrazione della comunità\, dell’amicizia e del divertimento condiviso. Abbiamo curato un programma ricco di attività pensate per intrattenere e coinvolgere partecipanti di ogni età\, dai bambini agli adulti. Che tu sia un appassionato di giochi di strategia come gli scacchi o il bridge\, o semplicemente alla ricerca di un modo piacevole per trascorrere una giornata all’aria aperta con la famiglia e gli amici\, questo evento è pensato proprio per te. \nAttrazioni Principali: \n\nTornei di Bridge e Scacchi: Sfida amici e familiari o partecipa ai tornei per mettere alla prova le tue abilità contro altri appassionati. Adatti a tutti i livelli\, dai principianti ai giocatori avanzati.\n Attività per Bambini e Ragazzi: Dal gioco libero alla partecipazione a giochi di gruppo organizzati\, i più piccoli avranno l’opportunità di divertirsi e fare nuove amicizie in un ambiente sicuro e stimolante.\n Momenti di Socializzazione: L’evento offre ampie opportunità per incontrare nuove persone\, scambiare idee e condividere momenti piacevoli in compagnia.\n\nInformazioni Utili:\n– Data: 11 Maggio 2024\n– Luogo: Parco della Caffarella\, Roma\n– Orario: Dalle 10:00 alle 18:00\n– Ingresso: Aperto a tutti\, senza costi di partecipazione \nInvitiamo tutti – famiglie\, amici\, appassionati di giochi e chiunque desideri trascorrere una giornata all’insegna dello sport e del benessere psicofisico.
URL:https://www.csainlazio.it/evento/giochiamo-insieme/
LOCATION:PARCO DELLA CAFFARELLA\, ROMA\, largo pietro tacchi venturi\, ROMA\, Italia
CATEGORIES:Eventi Roma
ATTACH;FMTTYPE=image/jpeg:https://www.csainlazio.it/wp-content/uploads/2024/04/GIOCHIAMO-INSIEME-7.jpg
ORGANIZER;CN="Csain Lazio":MAILTO:segreteria@csainlazio.it
END:VEVENT
BEGIN:VEVENT
DTSTART;TZID=Europe/Rome:20240511T100000
DTEND;TZID=Europe/Rome:20240511T183000
DTSTAMP:20260423T040622
CREATED:20240419T094554Z
LAST-MODIFIED:20260419T164450Z
UID:10000232-1715421600-1715452200@www.csainlazio.it
SUMMARY:PERCORSO D'EMOZIONI
DESCRIPTION:Riscopri la Libertà di Emozioni al Parco della Caffarella \nIn una giornata primaverile unica\, l’11 Maggio 2024\, il Parco della Caffarella a Roma diventerà lo scenario incantevole di un evento straordinario: “PERCORSO D’EMOZIONI”. Un’iniziativa senza precedenti\, inserita nel progetto “Tornare a vivere in libertà”\, che invita a riscoprire il piacere della vita all’aria aperta attraverso un’ampia gamma di attività pensate per ogni età. \nL’evento è aperto a tutti\, dai più piccoli agli adulti\, e promette di essere una giornata indimenticabile dove la natura\, l’arte del movimento e le emozioni si intrecciano in un’esperienza unica. Il PERCORSO D’EMOZIONI vuole essere un invito a riscoprire le proprie sensazioni\, a liberarsi delle tensioni e a godere della bellezza che ci circonda\, in un contesto di condivisione e gioia. \nPer i più piccoli\, abbiamo preparato un’area psicomotoria dedicata\, dove i bambini potranno esplorare il movimento in maniera creativa e stimolante\, guidati da esperti del settore. Un modo divertente e sicuro per imparare giocando\, favorendo lo sviluppo delle abilità motorie e cognitive in un ambiente naturale e stimolante. \nI ragazzi e gli adulti\, invece\, avranno la possibilità di partecipare a diversi laboratori e attività\, progettati per esplorare nuove forme di espressione e benessere. Dalla meditazione all’arte terapia\, dallo yoga al teatro all’aperto\, ogni momento del PERCORSO D’EMOZIONI è pensato per offrire un’esperienza arricchente e trasformativa. \nIl Parco della Caffarella\, con la sua natura rigogliosa e i suoi spazi verdi\, offre la cornice perfetta per questo viaggio alla riscoperta di sé e del proprio benessere. Un’occasione per staccare dalla routine quotidiana e immergersi in un ambiente che stimola il corpo\, la mente e lo spirito. \nInvitiamo tutti a partecipare a questa celebrazione della vita e della libertà. Che siate alla ricerca di un momento di relax\, di un’esperienza educativa per i vostri bambini…
URL:https://www.csainlazio.it/evento/percorso-demozioni/
LOCATION:PARCO DELLA CAFFARELLA\, ROMA\, largo pietro tacchi venturi\, ROMA\, Italia
CATEGORIES:Eventi Roma
ATTACH;FMTTYPE=image/jpeg:https://www.csainlazio.it/wp-content/uploads/2024/04/GIOCHIAMO-INSIEME-8.jpg
ORGANIZER;CN="Csain Lazio":MAILTO:segreteria@csainlazio.it
END:VEVENT
END:VCALENDAR