BEGIN:VCALENDAR
VERSION:2.0
PRODID:-//Csain Lazio - ECPv6.15.20//NONSGML v1.0//EN
CALSCALE:GREGORIAN
METHOD:PUBLISH
X-ORIGINAL-URL:https://www.csainlazio.it
X-WR-CALDESC:Eventi per Csain Lazio
REFRESH-INTERVAL;VALUE=DURATION:PT1H
X-Robots-Tag:noindex
X-PUBLISHED-TTL:PT1H
BEGIN:VTIMEZONE
TZID:Europe/Rome
BEGIN:DAYLIGHT
TZOFFSETFROM:+0100
TZOFFSETTO:+0200
TZNAME:CEST
DTSTART:20220327T010000
END:DAYLIGHT
BEGIN:STANDARD
TZOFFSETFROM:+0200
TZOFFSETTO:+0100
TZNAME:CET
DTSTART:20221030T010000
END:STANDARD
BEGIN:DAYLIGHT
TZOFFSETFROM:+0100
TZOFFSETTO:+0200
TZNAME:CEST
DTSTART:20230326T010000
END:DAYLIGHT
BEGIN:STANDARD
TZOFFSETFROM:+0200
TZOFFSETTO:+0100
TZNAME:CET
DTSTART:20231029T010000
END:STANDARD
BEGIN:DAYLIGHT
TZOFFSETFROM:+0100
TZOFFSETTO:+0200
TZNAME:CEST
DTSTART:20240331T010000
END:DAYLIGHT
BEGIN:STANDARD
TZOFFSETFROM:+0200
TZOFFSETTO:+0100
TZNAME:CET
DTSTART:20241027T010000
END:STANDARD
END:VTIMEZONE
BEGIN:VEVENT
DTSTART;TZID=Europe/Rome:20231126T150000
DTEND;TZID=Europe/Rome:20231126T230000
DTSTAMP:20260424T075504
CREATED:20231010T172535Z
LAST-MODIFIED:20260419T164505Z
UID:10000149-1701010800-1701039600@www.csainlazio.it
SUMMARY:Rough Battle 2023
DESCRIPTION:CONCEPT:\nLa Battle 1vs1 è aperta a tutti i ballerini di qualsiasi genere. Ogni ballerino sarà sfidato a ballare su una musica a sorpresa mixata da un DJ dal vivo\, che cambierà tra vari generi musicali appartenenti al mondo Funk\, Hip Hop\, elettronico e sperimentale. \nISCRIZIONE:\nPer accedere alla ROUGH BATTLE sarà necessario compilare il modulo di iscrizione qui di seguito in ogni sua parte. Il modulo dovrà essere inviato tramite e-mail all’indirizzo danza@csainlazio.it oppure consegnato in loco agli organizzatori. Per i minori d’età sarà necessario compilare la scheda di iscrizione apposita. Ad ogni partecipante verrà consegnato un braccialetto colorato per accedere alla Battle. Per motivi logistici e di praticità raccomandiamo di mantenerlo per tutto l’evento. \nSarà possibile registrarsi in loco fino a 30 minuti prima dell’orario di inizio della relativa categoria.\nL’iscrizione all’evento per una singola categoria (sia Kids che Open) è pari ad € 15.00 se fatta tramite bonifico bancario\, oppure di € 18.00 sul posto. Per chi volesse partecipare ad entrambe le Categorie OPEN (Hip Hop + Mixed Style) l’importo da saldare è pari ad € 25.00 tramite bonifico oppure € 28.00 sul posto. La distinta del bonifico dovrà poi essere inviata tramite e-mail all’indirizzo danza@csainlazio.it. \nDi seguito le coordinate bancarie:\nBENEFICIARIO: CSAIN Lazio\nCodice IBAN: IT04P0832703236000000012962\nCAUSALE: ROUGH BATTLE + nome e cognome \nBIGLIETTI PUBBLICO:\nSi potrà assistere all’evento solo se muniti del biglietto d’ingresso\, acquistabile tramite bonifico bancario come contributo associativo.\nSarà possibile acquistare i biglietti in loco il giorno dell’evento\, fino ad esaurimento posti.\nCOSTO BIGLIETTO: € 8.00 \nORGANIZZAZIONE E SVOLGIMENTO DELL’EVENTO:\nLe categorie disponibili al momento dell’iscrizione sono:\nCategoria KIDS\, riservata ai più piccoli\, divisa a sua volta in:\n– Categoria Under 11\n– Categoria Under 16\nCategoria OPEN\, aperta a tutti (consigliata ai ballerini maggiori di 16 anni) divisa a sua volta in:\n– Categoria OPEN HIP HOP\n– Categoria OPEN MIXED STYLE.\nLe pre-selezioni/showcase riguarderanno tutti i partecipanti nelle fasi iniziali; ogni ballerino avrà l’opportunità di ballare per circa 60sec.\nIn base al numero dei partecipanti si procederà poi con le FINAL 8.\nDurante le fasi finali\, ogni round sarà composto da n. 2 ballerini che si che si sfideranno uno di fronte all’altro.\nI giudici sceglieranno 1 ballerino per ogni round che avanzerà al turno successivo fino a che non resteranno i due ballerini finalisti.\nIl numero dei round\, i tempi\, gli orari\, la preselezione\, ecc. potrebbero essere soggetti ad eventuali modifiche nell’ottica di un fluire migliore dell’evento. \nGIURIA:\nLe Battle 1vs1 verranno giudicate da una giuria composta da n. 1 giudice per la categoria KIDS e 3 giudici per la categoria OPEN.\nNon ci sarà alcun sistema di punteggio\, ma i giudici sceglieranno il ballerino che rispecchierà i seguenti criteri di valutazione:\nFoundations\nTecnica\nCreatività\nMusicalità\nPresenza scenica\nAlla fine di ogni Battle i giudici alzeranno la mano dalla parte del vincitore che andrà avanti al turno successivo. La decisione dei giudici è FINALE e IRREVOCABILE. \nORARI:\nKIDS: dalle ore 15.00 alle ore 17.30\nOPEN: dalle ore 18.00 alle 23.00\nGli orari potranno subire variazioni\, in base al numero di adesioni. \nScarica il regolamento completo e le schede di iscrizione  \nInvia una richiesta per ricevere maggiori informazioni
URL:https://www.csainlazio.it/evento/roughbattle-2023/
LOCATION:Largo Venue\, Largo Venue via Biordo Michelotti\, 2 (traversa via Prenestina)\, Roma\, 00176\, Italia
CATEGORIES:Danza,Eventi In Primo Piano,Eventi Roma
ATTACH;FMTTYPE=image/jpeg:https://www.csainlazio.it/wp-content/uploads/2023/10/POST-ORIZZONTALE-2.jpg
ORGANIZER;CN="Csain Lazio":MAILTO:segreteria@csainlazio.it
END:VEVENT
END:VCALENDAR