BEGIN:VCALENDAR
VERSION:2.0
PRODID:-//Csain Lazio - ECPv6.15.20//NONSGML v1.0//EN
CALSCALE:GREGORIAN
METHOD:PUBLISH
X-WR-CALNAME:Csain Lazio
X-ORIGINAL-URL:https://www.csainlazio.it
X-WR-CALDESC:Eventi per Csain Lazio
REFRESH-INTERVAL;VALUE=DURATION:PT1H
X-Robots-Tag:noindex
X-PUBLISHED-TTL:PT1H
BEGIN:VTIMEZONE
TZID:Europe/Rome
BEGIN:DAYLIGHT
TZOFFSETFROM:+0100
TZOFFSETTO:+0200
TZNAME:CEST
DTSTART:20240331T010000
END:DAYLIGHT
BEGIN:STANDARD
TZOFFSETFROM:+0200
TZOFFSETTO:+0100
TZNAME:CET
DTSTART:20241027T010000
END:STANDARD
BEGIN:DAYLIGHT
TZOFFSETFROM:+0100
TZOFFSETTO:+0200
TZNAME:CEST
DTSTART:20250330T010000
END:DAYLIGHT
BEGIN:STANDARD
TZOFFSETFROM:+0200
TZOFFSETTO:+0100
TZNAME:CET
DTSTART:20251026T010000
END:STANDARD
BEGIN:DAYLIGHT
TZOFFSETFROM:+0100
TZOFFSETTO:+0200
TZNAME:CEST
DTSTART:20260329T010000
END:DAYLIGHT
BEGIN:STANDARD
TZOFFSETFROM:+0200
TZOFFSETTO:+0100
TZNAME:CET
DTSTART:20261025T010000
END:STANDARD
END:VTIMEZONE
BEGIN:VEVENT
DTSTART;VALUE=DATE:20250404
DTEND;VALUE=DATE:20250407
DTSTAMP:20260421T161729
CREATED:20250306T095146Z
LAST-MODIFIED:20260419T164435Z
UID:10000303-1743724800-1743983999@www.csainlazio.it
SUMMARY:Salsaterme 2025: Tre giorni di danza e spettacolo a Chianciano Terme
DESCRIPTION:Lo Csain Lazio è lieto di presentare la 19ª edizione di Salsaterme\, l’evento dedicato agli appassionati di danza e musica latina\, che si terrà dal 4 al 6 aprile 2025 presso Chianciano Terme (SI). \nUn cast d’eccezione per un evento imperdibile\nSalsaterme 2025 ospiterà alcuni tra i migliori ballerini\, insegnanti\, dj e percussionisti della scena internazionale. Un programma ricco di oltre 80 ore di stage\, con lezioni tenute da maestri di fama mondiale e due serate danzanti con spettacoli di altissimo livello. \nL’evento si distingue per la presenza di esibizioni live\, musica dal vivo con percussioni dal vivo e un’energia unica\, in un contesto elegante e accogliente. \nIl programma\nDurante i tre giorni di Salsaterme\, i partecipanti potranno vivere un’esperienza coinvolgente\, tra: \n\nStage formativi di salsa\, bachata e altre discipline latine\nAnimazione e spettacoli esclusivi\nDj set con artisti internazionali\nSerate di social dance in un’atmosfera unica\n\nInformazioni e prenotazioni\nPer partecipare all’evento e ricevere maggiori dettagli\, contatta l’organizzazione al numero 335 7069888 o via email a info@salsaterme.it. \nUn’occasione imperdibile per tutti gli amanti della danza e della cultura latina. Ti aspettiamo a Salsaterme 2025!
URL:https://www.csainlazio.it/evento/salsaterme-2025-tre-giorni-di-danza-e-spettacolo-a-chianciano-terme/
LOCATION:Chianciano Terme\, Chianciano Terme\, Italy
CATEGORIES:Danza,Eventi In Primo Piano
ATTACH;FMTTYPE=image/jpeg:https://www.csainlazio.it/wp-content/uploads/2025/03/ORIZZONTALE.jpg
ORGANIZER;CN="Settore Danza C.S.A.In Lazio":MAILTO:danza@csainlazio.it
END:VEVENT
BEGIN:VEVENT
DTSTART;TZID=Europe/Rome:20250405T080000
DTEND;TZID=Europe/Rome:20250405T170000
DTSTAMP:20260421T161729
CREATED:20250108T163142Z
LAST-MODIFIED:20260419T164441Z
UID:10000283-1743840000-1743872400@www.csainlazio.it
SUMMARY:Campionato di Ginnastica Artistica CSAIN Lazio 2025
DESCRIPTION:Siamo lieti di annunciare il Campionato di Ginnastica Artistica dello CSAIN Lazio 2025\, un evento imperdibile che vedrà la partecipazione di atleti e atlete provenienti da tutta la regione. Preparati a vivere l’emozione di competizioni avvincenti e performance di altissimo livello! 🏆✨ \nEcco il calendario ufficiale: \nDate e Luoghi 📅\n\n25-26 gennaio: GAF (Categorie A-B-C1) e GAM (Categorie A-B-C-D)\n📍 EUR\, Via Fiume – Bianco 75\n01-02 febbraio: GAF (Categoria D)\n📍 Juvenia\, Giustiniana\n08-09 febbraio: GAF (Categoria C2) + SuperGym\n📍 Juvenia\, Giustiniana\n15-16 febbraio: SuperGym ALL + RAG/JUN\n📍 Kines Roma\, Via Filacciano 5\n22-23 febbraio: SuperGym PR/PUL + GAM\n📍 Kines Roma\, Via Filacciano 5\n15-16 marzo: GAF (Categorie A-B-C1) e GAM (Categorie A-B-C-D)\n📍 EUR\, Via Fiume – Bianco 75\n22-23 marzo: GAF (Categorie C2+D\, alcune categorie)\n📍 EUR\, Via Fiume – Bianco 76\n29-30 marzo: GAF (Categoria D) + SuperGym\n📍 Kines Roma\, Via Filacciano 5\n5-6 aprile: SuperGym ALL + RAG/JUN\n📍 Kines Roma\, Via Filacciano 5\n12-13 aprile: SuperGym PR/PUL + GAM\n📍 Kines Roma\, Via Filacciano 5\nMaggio (17-18 o 24-25): Coppa Lazio\n📍 EUR\, Via Fiume – Bianco 75\n5-8 giugno: Campionato Nazionale\n📍 Cesenatico\n\nCosa aspettarsi? 🌟\nUn’occasione unica per supportare i talenti emergenti della ginnastica artistica e vivere l’entusiasmo delle competizioni in un ambiente accogliente e professionale. Atleti e famiglie potranno godere di un evento organizzato con cura e passione. \n💡 Nota bene: Alcune date potrebbero subire variazioni. Per aggiornamenti e dettagli\, continuate a seguire il nostro sito ufficiale e i nostri canali social.
URL:https://www.csainlazio.it/evento/campionato-di-ginnastica-artistica-csain-lazio-2025/2025-04-05/
LOCATION:Palestra Kines\, Via Filaccino\, 5\, Roma\, 00176\, Italia
CATEGORIES:Eventi In Primo Piano,Ginnastica Artistica
ATTACH;FMTTYPE=image/jpeg:https://www.csainlazio.it/wp-content/uploads/2025/01/ORIZONTALE.jpg
ORGANIZER;CN="Settore Ginnastica Artistica":MAILTO:artistica@csainlazio.it
END:VEVENT
BEGIN:VEVENT
DTSTART;TZID=Europe/Rome:20250406T080000
DTEND;TZID=Europe/Rome:20250406T170000
DTSTAMP:20260421T161729
CREATED:20250108T163142Z
LAST-MODIFIED:20260419T164441Z
UID:10000284-1743926400-1743958800@www.csainlazio.it
SUMMARY:Campionato di Ginnastica Artistica CSAIN Lazio 2025
DESCRIPTION:Siamo lieti di annunciare il Campionato di Ginnastica Artistica dello CSAIN Lazio 2025\, un evento imperdibile che vedrà la partecipazione di atleti e atlete provenienti da tutta la regione. Preparati a vivere l’emozione di competizioni avvincenti e performance di altissimo livello! 🏆✨ \nEcco il calendario ufficiale: \nDate e Luoghi 📅\n\n25-26 gennaio: GAF (Categorie A-B-C1) e GAM (Categorie A-B-C-D)\n📍 EUR\, Via Fiume – Bianco 75\n01-02 febbraio: GAF (Categoria D)\n📍 Juvenia\, Giustiniana\n08-09 febbraio: GAF (Categoria C2) + SuperGym\n📍 Juvenia\, Giustiniana\n15-16 febbraio: SuperGym ALL + RAG/JUN\n📍 Kines Roma\, Via Filacciano 5\n22-23 febbraio: SuperGym PR/PUL + GAM\n📍 Kines Roma\, Via Filacciano 5\n15-16 marzo: GAF (Categorie A-B-C1) e GAM (Categorie A-B-C-D)\n📍 EUR\, Via Fiume – Bianco 75\n22-23 marzo: GAF (Categorie C2+D\, alcune categorie)\n📍 EUR\, Via Fiume – Bianco 76\n29-30 marzo: GAF (Categoria D) + SuperGym\n📍 Kines Roma\, Via Filacciano 5\n5-6 aprile: SuperGym ALL + RAG/JUN\n📍 Kines Roma\, Via Filacciano 5\n12-13 aprile: SuperGym PR/PUL + GAM\n📍 Kines Roma\, Via Filacciano 5\nMaggio (17-18 o 24-25): Coppa Lazio\n📍 EUR\, Via Fiume – Bianco 75\n5-8 giugno: Campionato Nazionale\n📍 Cesenatico\n\nCosa aspettarsi? 🌟\nUn’occasione unica per supportare i talenti emergenti della ginnastica artistica e vivere l’entusiasmo delle competizioni in un ambiente accogliente e professionale. Atleti e famiglie potranno godere di un evento organizzato con cura e passione. \n💡 Nota bene: Alcune date potrebbero subire variazioni. Per aggiornamenti e dettagli\, continuate a seguire il nostro sito ufficiale e i nostri canali social.
URL:https://www.csainlazio.it/evento/campionato-di-ginnastica-artistica-csain-lazio-2025/2025-04-06/
LOCATION:Palestra Kines\, Via Filaccino\, 5\, Roma\, 00176\, Italia
CATEGORIES:Eventi In Primo Piano,Ginnastica Artistica
ATTACH;FMTTYPE=image/jpeg:https://www.csainlazio.it/wp-content/uploads/2025/01/ORIZONTALE.jpg
ORGANIZER;CN="Settore Ginnastica Artistica":MAILTO:artistica@csainlazio.it
END:VEVENT
BEGIN:VEVENT
DTSTART;TZID=Europe/Rome:20250412T080000
DTEND;TZID=Europe/Rome:20250412T170000
DTSTAMP:20260421T161729
CREATED:20250108T163142Z
LAST-MODIFIED:20260419T164441Z
UID:10000285-1744444800-1744477200@www.csainlazio.it
SUMMARY:Campionato di Ginnastica Artistica CSAIN Lazio 2025
DESCRIPTION:Siamo lieti di annunciare il Campionato di Ginnastica Artistica dello CSAIN Lazio 2025\, un evento imperdibile che vedrà la partecipazione di atleti e atlete provenienti da tutta la regione. Preparati a vivere l’emozione di competizioni avvincenti e performance di altissimo livello! 🏆✨ \nEcco il calendario ufficiale: \nDate e Luoghi 📅\n\n25-26 gennaio: GAF (Categorie A-B-C1) e GAM (Categorie A-B-C-D)\n📍 EUR\, Via Fiume – Bianco 75\n01-02 febbraio: GAF (Categoria D)\n📍 Juvenia\, Giustiniana\n08-09 febbraio: GAF (Categoria C2) + SuperGym\n📍 Juvenia\, Giustiniana\n15-16 febbraio: SuperGym ALL + RAG/JUN\n📍 Kines Roma\, Via Filacciano 5\n22-23 febbraio: SuperGym PR/PUL + GAM\n📍 Kines Roma\, Via Filacciano 5\n15-16 marzo: GAF (Categorie A-B-C1) e GAM (Categorie A-B-C-D)\n📍 EUR\, Via Fiume – Bianco 75\n22-23 marzo: GAF (Categorie C2+D\, alcune categorie)\n📍 EUR\, Via Fiume – Bianco 76\n29-30 marzo: GAF (Categoria D) + SuperGym\n📍 Kines Roma\, Via Filacciano 5\n5-6 aprile: SuperGym ALL + RAG/JUN\n📍 Kines Roma\, Via Filacciano 5\n12-13 aprile: SuperGym PR/PUL + GAM\n📍 Kines Roma\, Via Filacciano 5\nMaggio (17-18 o 24-25): Coppa Lazio\n📍 EUR\, Via Fiume – Bianco 75\n5-8 giugno: Campionato Nazionale\n📍 Cesenatico\n\nCosa aspettarsi? 🌟\nUn’occasione unica per supportare i talenti emergenti della ginnastica artistica e vivere l’entusiasmo delle competizioni in un ambiente accogliente e professionale. Atleti e famiglie potranno godere di un evento organizzato con cura e passione. \n💡 Nota bene: Alcune date potrebbero subire variazioni. Per aggiornamenti e dettagli\, continuate a seguire il nostro sito ufficiale e i nostri canali social.
URL:https://www.csainlazio.it/evento/campionato-di-ginnastica-artistica-csain-lazio-2025/2025-04-12/
LOCATION:Palestra Kines\, Via Filaccino\, 5\, Roma\, 00176\, Italia
CATEGORIES:Eventi In Primo Piano,Ginnastica Artistica
ATTACH;FMTTYPE=image/jpeg:https://www.csainlazio.it/wp-content/uploads/2025/01/ORIZONTALE.jpg
ORGANIZER;CN="Settore Ginnastica Artistica":MAILTO:artistica@csainlazio.it
END:VEVENT
BEGIN:VEVENT
DTSTART;TZID=Europe/Rome:20250412T080000
DTEND;TZID=Europe/Rome:20250412T190000
DTSTAMP:20260421T161729
CREATED:20240923T094307Z
LAST-MODIFIED:20260419T164438Z
UID:10000249-1744444800-1744484400@www.csainlazio.it
SUMMARY:Baby Butterfly Cup 2024
DESCRIPTION:Baby Butterfly Cup: La Gara Perfetta per le Giovani Ginnaste\nBenvenuti alla Baby Butterfly Cup\, la competizione non agonistica ideale per le ginnaste dei corsi base che muovono i primi passi nel mondo delle gare. Questa è l’opportunità perfetta per le giovani atlete di mettersi alla prova e vivere l’emozione di una vera competizione in un ambiente sicuro e stimolante. \nLa Baby Butterfly Cup offre tre categorie distinte per soddisfare le esigenze di ogni ginnasta: \n1. Percorso Motorio: Un percorso in linea retta che include tutti gli elementi e gli attrezzi della Ginnastica Ritmica\, perfetto per le ginnaste alle prime armi. \n2. Programma Preagonismo: Basato sui programmi della Federazione Ginnastica d’Italia (FGI)\, è riservato alle ginnaste che non possono partecipare alle gare federali per limiti di età\, ma che desiderano comunque cimentarsi con il programma FGI. \n3. Programma Raffaeli: Dedicato alle ginnaste non agoniste che stanno muovendo i primi passi nella Ginnastica Ritmica. \nPer garantire la massima sicurezza e il rispetto delle regole\, tutti gli atleti e i tecnici devono essere in regola con il Tesseramento C.S.A.In. per l’anno 2024/2025. Le ginnaste dovranno indossare mezze punte e un costume da ginnastica corretto e non trasparente\, seguendo le linee guida fornite. \nLa Baby Butterfly Cup si impegna a creare un ambiente inclusivo e divertente per tutte le partecipanti. Non verranno stilate classifiche di merito\, ma ogni ginnasta sarà premiata per il suo impegno e la sua passione\, senza dichiarare il punteggio ottenuto. \nLe ginnaste che partecipano ai Campionati FGI o al Campionato Nazionale C.S.A.In. non possono prendere parte ai programmi della Baby Butterfly Cup\, in quanto questa competizione è riservata esclusivamente alle atlete dei corsi base. \nNon perdete l’occasione di far vivere alle vostre giovani ginnaste un’esperienza indimenticabile. Iscrivetevi ora alla Baby Butterfly Cup e permettete loro di brillare come le farfalle che sono! \nPer ulteriori informazioni sui requisiti di partecipazione\, le categorie e le regole\, vi invitiamo a consultare il nostro sito web o a contattare il nostro team dedicato. \nLa Baby Butterfly Cup: dove i sogni delle giovani ginnaste prendono il volo! \n\nSCARICA IL REGOLAMENTO
URL:https://www.csainlazio.it/evento/baby-butterfly-cup-2024/2025-04-12/
CATEGORIES:Eventi In Primo Piano,Eventi Roma,Ginnastica Ritmica
ATTACH;FMTTYPE=image/jpeg:https://www.csainlazio.it/wp-content/uploads/2024/09/ORIZONTALE-2-2.jpg
ORGANIZER;CN="Settore Ginnastica Ritmica Csain Lazio":MAILTO:ritmica@csainlazio.it
END:VEVENT
BEGIN:VEVENT
DTSTART;TZID=Europe/Rome:20250413T080000
DTEND;TZID=Europe/Rome:20250413T170000
DTSTAMP:20260421T161729
CREATED:20240923T094307Z
LAST-MODIFIED:20260419T164438Z
UID:10000250-1744531200-1744563600@www.csainlazio.it
SUMMARY:Baby Butterfly Cup 2024
DESCRIPTION:Baby Butterfly Cup: La Gara Perfetta per le Giovani Ginnaste\nBenvenuti alla Baby Butterfly Cup\, la competizione non agonistica ideale per le ginnaste dei corsi base che muovono i primi passi nel mondo delle gare. Questa è l’opportunità perfetta per le giovani atlete di mettersi alla prova e vivere l’emozione di una vera competizione in un ambiente sicuro e stimolante. \nLa Baby Butterfly Cup offre tre categorie distinte per soddisfare le esigenze di ogni ginnasta: \n1. Percorso Motorio: Un percorso in linea retta che include tutti gli elementi e gli attrezzi della Ginnastica Ritmica\, perfetto per le ginnaste alle prime armi. \n2. Programma Preagonismo: Basato sui programmi della Federazione Ginnastica d’Italia (FGI)\, è riservato alle ginnaste che non possono partecipare alle gare federali per limiti di età\, ma che desiderano comunque cimentarsi con il programma FGI. \n3. Programma Raffaeli: Dedicato alle ginnaste non agoniste che stanno muovendo i primi passi nella Ginnastica Ritmica. \nPer garantire la massima sicurezza e il rispetto delle regole\, tutti gli atleti e i tecnici devono essere in regola con il Tesseramento C.S.A.In. per l’anno 2024/2025. Le ginnaste dovranno indossare mezze punte e un costume da ginnastica corretto e non trasparente\, seguendo le linee guida fornite. \nLa Baby Butterfly Cup si impegna a creare un ambiente inclusivo e divertente per tutte le partecipanti. Non verranno stilate classifiche di merito\, ma ogni ginnasta sarà premiata per il suo impegno e la sua passione\, senza dichiarare il punteggio ottenuto. \nLe ginnaste che partecipano ai Campionati FGI o al Campionato Nazionale C.S.A.In. non possono prendere parte ai programmi della Baby Butterfly Cup\, in quanto questa competizione è riservata esclusivamente alle atlete dei corsi base. \nNon perdete l’occasione di far vivere alle vostre giovani ginnaste un’esperienza indimenticabile. Iscrivetevi ora alla Baby Butterfly Cup e permettete loro di brillare come le farfalle che sono! \nPer ulteriori informazioni sui requisiti di partecipazione\, le categorie e le regole\, vi invitiamo a consultare il nostro sito web o a contattare il nostro team dedicato. \nLa Baby Butterfly Cup: dove i sogni delle giovani ginnaste prendono il volo! \n\nSCARICA IL REGOLAMENTO
URL:https://www.csainlazio.it/evento/baby-butterfly-cup-2024/2025-04-13/
CATEGORIES:Eventi In Primo Piano,Eventi Roma,Ginnastica Ritmica
ATTACH;FMTTYPE=image/jpeg:https://www.csainlazio.it/wp-content/uploads/2024/09/ORIZONTALE-2-2.jpg
ORGANIZER;CN="Settore Ginnastica Ritmica Csain Lazio":MAILTO:ritmica@csainlazio.it
END:VEVENT
BEGIN:VEVENT
DTSTART;TZID=Europe/Rome:20250413T080000
DTEND;TZID=Europe/Rome:20250413T170000
DTSTAMP:20260421T161729
CREATED:20250108T163142Z
LAST-MODIFIED:20260419T164441Z
UID:10000286-1744531200-1744563600@www.csainlazio.it
SUMMARY:Campionato di Ginnastica Artistica CSAIN Lazio 2025
DESCRIPTION:Siamo lieti di annunciare il Campionato di Ginnastica Artistica dello CSAIN Lazio 2025\, un evento imperdibile che vedrà la partecipazione di atleti e atlete provenienti da tutta la regione. Preparati a vivere l’emozione di competizioni avvincenti e performance di altissimo livello! 🏆✨ \nEcco il calendario ufficiale: \nDate e Luoghi 📅\n\n25-26 gennaio: GAF (Categorie A-B-C1) e GAM (Categorie A-B-C-D)\n📍 EUR\, Via Fiume – Bianco 75\n01-02 febbraio: GAF (Categoria D)\n📍 Juvenia\, Giustiniana\n08-09 febbraio: GAF (Categoria C2) + SuperGym\n📍 Juvenia\, Giustiniana\n15-16 febbraio: SuperGym ALL + RAG/JUN\n📍 Kines Roma\, Via Filacciano 5\n22-23 febbraio: SuperGym PR/PUL + GAM\n📍 Kines Roma\, Via Filacciano 5\n15-16 marzo: GAF (Categorie A-B-C1) e GAM (Categorie A-B-C-D)\n📍 EUR\, Via Fiume – Bianco 75\n22-23 marzo: GAF (Categorie C2+D\, alcune categorie)\n📍 EUR\, Via Fiume – Bianco 76\n29-30 marzo: GAF (Categoria D) + SuperGym\n📍 Kines Roma\, Via Filacciano 5\n5-6 aprile: SuperGym ALL + RAG/JUN\n📍 Kines Roma\, Via Filacciano 5\n12-13 aprile: SuperGym PR/PUL + GAM\n📍 Kines Roma\, Via Filacciano 5\nMaggio (17-18 o 24-25): Coppa Lazio\n📍 EUR\, Via Fiume – Bianco 75\n5-8 giugno: Campionato Nazionale\n📍 Cesenatico\n\nCosa aspettarsi? 🌟\nUn’occasione unica per supportare i talenti emergenti della ginnastica artistica e vivere l’entusiasmo delle competizioni in un ambiente accogliente e professionale. Atleti e famiglie potranno godere di un evento organizzato con cura e passione. \n💡 Nota bene: Alcune date potrebbero subire variazioni. Per aggiornamenti e dettagli\, continuate a seguire il nostro sito ufficiale e i nostri canali social.
URL:https://www.csainlazio.it/evento/campionato-di-ginnastica-artistica-csain-lazio-2025/2025-04-13/
LOCATION:Palestra Kines\, Via Filaccino\, 5\, Roma\, 00176\, Italia
CATEGORIES:Eventi In Primo Piano,Ginnastica Artistica
ATTACH;FMTTYPE=image/jpeg:https://www.csainlazio.it/wp-content/uploads/2025/01/ORIZONTALE.jpg
ORGANIZER;CN="Settore Ginnastica Artistica":MAILTO:artistica@csainlazio.it
END:VEVENT
END:VCALENDAR