BEGIN:VCALENDAR
VERSION:2.0
PRODID:-//Csain Lazio - ECPv6.15.20//NONSGML v1.0//EN
CALSCALE:GREGORIAN
METHOD:PUBLISH
X-ORIGINAL-URL:https://www.csainlazio.it
X-WR-CALDESC:Eventi per Csain Lazio
REFRESH-INTERVAL;VALUE=DURATION:PT1H
X-Robots-Tag:noindex
X-PUBLISHED-TTL:PT1H
BEGIN:VTIMEZONE
TZID:Europe/Rome
BEGIN:DAYLIGHT
TZOFFSETFROM:+0100
TZOFFSETTO:+0200
TZNAME:CEST
DTSTART:20220327T010000
END:DAYLIGHT
BEGIN:STANDARD
TZOFFSETFROM:+0200
TZOFFSETTO:+0100
TZNAME:CET
DTSTART:20221030T010000
END:STANDARD
BEGIN:DAYLIGHT
TZOFFSETFROM:+0100
TZOFFSETTO:+0200
TZNAME:CEST
DTSTART:20230326T010000
END:DAYLIGHT
BEGIN:STANDARD
TZOFFSETFROM:+0200
TZOFFSETTO:+0100
TZNAME:CET
DTSTART:20231029T010000
END:STANDARD
BEGIN:DAYLIGHT
TZOFFSETFROM:+0100
TZOFFSETTO:+0200
TZNAME:CEST
DTSTART:20240331T010000
END:DAYLIGHT
BEGIN:STANDARD
TZOFFSETFROM:+0200
TZOFFSETTO:+0100
TZNAME:CET
DTSTART:20241027T010000
END:STANDARD
END:VTIMEZONE
BEGIN:VEVENT
DTSTART;TZID=Europe/Rome:20231202T140000
DTEND;TZID=Europe/Rome:20231202T180000
DTSTAMP:20260424T014243
CREATED:20231120T164351Z
LAST-MODIFIED:20260419T164502Z
UID:10000163-1701525600-1701540000@www.csainlazio.it
SUMMARY:Coppa Tennis Csain Lazio 2023-2024
DESCRIPTION:Il campionato a squadre si svolgerà con una prima formula a gironi ed una successiva ad eliminazione diretta\,con tabellone principale per le migliori classificate dei gironi e tabellone secondario per le squadre eliminate nella fase a gironi. \nIl numero dei gironi sarà subordinato alle squadre iscritte. Saranno comunque garantite un minimo di 4 incontri tra girone e tabellone ad eliminazione diretta. \nOgni squadra dovrà essere composta da un minimo di 2 giocatori a un massimo di 6. La lista della squadra con relativa quota d’iscrizione dovrà essere presentata entro e non oltre 8 giorni antecedenti l’inizio della competizione. Dopo la fase a giorni\, potrà essere aggiunto un giocatore alla lista iniziale in sostituzione di un componente della prima lista. \nIn allegato alla presentazione della lista con i nomi dei giocatori\, ogni circolo dovrà segnalare la disponibilità di giorno e orario per poter disputare gli incontri casalinghi nei weekend (es. il sabato dalle 14 ; la domenica alle 10 ; la domenica alle 14). \nNella fase a giorni\, ogni squadra giocherà sia in casa che fuori casa. Il circolo ospitante metterà a disposizione un campo (o due campi qualora ci sia la possibilità\, ma senza nessuno vincolo di obbligatorietà) per lo svolgimento delle gare. \nLe partite saranno con la formula di due singolari e un doppio.I due singolaristi di casa\, giocheranno contro i singolaristi ospiti nella prima giornata per il sorteggio (dalla seconda giornata sarà sviluppata una classifica con vittorie/sconfitte dei giocatori per definire nelle restanti giornate un “numero uno” e un “numero due”). Il doppio potrà essere giocato dagli stessi singolaristi o da altri giocatori\, sempre appartenenti alla lista presentata in sede di iscrizione. \n\nScarica il regolamento
URL:https://www.csainlazio.it/evento/coppa-tennis-csain-lazio-2023-2024/
LOCATION:ROMA\, Italia
CATEGORIES:Eventi In Primo Piano,Eventi Roma,Tennis
ATTACH;FMTTYPE=image/jpeg:https://www.csainlazio.it/wp-content/uploads/2023/11/COPPA-TENNIS-3.jpg
ORGANIZER;CN="Settore Tennis":MAILTO:tennis@csainlazio.it
END:VEVENT
BEGIN:VEVENT
DTSTART;TZID=Europe/Rome:20231203T080000
DTEND;TZID=Europe/Rome:20231203T200000
DTSTAMP:20260424T014243
CREATED:20230822T231132Z
LAST-MODIFIED:20260419T164501Z
UID:10000127-1701590400-1701633600@www.csainlazio.it
SUMMARY:2° Trofeo di Natale di Ginnastica Ritmica CSAIn Lazio
DESCRIPTION:Vi aspettiamo numerosi al 2° Trofeo di Natale di Ginnastica Ritmica CSAIn Lazio! \nUn evento imperdibile che celebra la bellezza e l’eleganza della ginnastica ritmica. Saranno presenti le atlete più talentuose della regione\, pronte a regalarci spettacoli mozzafiato sul tappeto. \nPorta con te amici e familiari\, per condividere insieme la magia del Natale e il fascino di questo sport straordinario. \nMODALITÀ DI PARTECIPAZIONE \n\n–  Le iscrizioni dovranno essere mandate entro e non oltre 15 giorni dalla gara.\n–  Le iscrizioni dovranno essere raccolte e bonificate all’ente C.S.A.In. entro e non oltre il 20 Novembre 2023.\nIntestatario: CSAIN LAZIO\nIban: IT04P0832703236000000012962\nCausale: 2° Trofeo di Natale Ginnastica Ritmica 2 Dicembre 2023 + nome società\n– La quota a singola ginnasta è di euro 10.00 ad esercizio e euro 15.00 per due esercizi (ogni ginnastica potrà eseguire al massimo 2 esercizi).\n– Le quote versate non sono rimborsabili se non in caso di annullamento dell’evento.\n\n\n–  Si ricorda alle società di compilare il modulo di iscrizione disponibile al link qui sotto.\n–  Tutta la documentazione dovrà essere inoltrata all’email: ritmica@csainlazio.it\n–  L’iscrizione sarà valida con l’invio del modulo di iscrizione e la copia contabile dell’avvento pagamento.\n– Per tutte le comunicazioni potete far riferimento alle responsabili Sonia Pozzi al. n. 3494269300 e Francesca Ripandelli al n. 3494338137\n\n\nScarica il modulo di iscrizione\n\n\nScarica il regolamento
URL:https://www.csainlazio.it/evento/2-trofeo-di-natale-di-ginnastica-ritmica-csain-lazio/
LOCATION:Palazzetto dello Sport in Via della Cellulosa 29\, Palazzetto dello Sport in Via della Cellulosa 29\, Roma\, 00166\, Italia
CATEGORIES:Eventi In Primo Piano,Eventi Roma,Ginnastica Ritmica
ATTACH;FMTTYPE=image/jpeg:https://www.csainlazio.it/wp-content/uploads/2023/08/ginnastica-ritmica-natale-2023-sito.jpg
ORGANIZER;CN="Settore Ginnastica Ritmica Csain Lazio":MAILTO:ritmica@csainlazio.it
END:VEVENT
BEGIN:VEVENT
DTSTART;TZID=Europe/Rome:20231207T080000
DTEND;TZID=Europe/Rome:20231210T180000
DTSTAMP:20260424T014243
CREATED:20231204T162836Z
LAST-MODIFIED:20260419T164500Z
UID:10000177-1701936000-1702231200@www.csainlazio.it
SUMMARY:Jam Factory
DESCRIPTION:Amanti del ritmo e del ballo\, segnatevi le date! Dal 7 al 10 Dicembre 2023\, preparatevi a scatenarvi sulle piste di The Living a Roma con l’evento Jam Factory! Quattro giorni di pura energia\, dove i passi di Solo Jazz e le movenze del Lindy Hop saranno i veri protagonisti. Che siate ballerini esperti o semplici appassionati\, non perdete l’occasione di immergervi nella cultura swing. Pronti a far vibrare la città eterna al ritmo di charleston\, shimmy e swingout? Venite a celebrare la magia del ballo con noi!
URL:https://www.csainlazio.it/evento/jam-factory/
LOCATION:The Living – Via del Mandrione\, 103\, Via del Mandrione\, 103\, Roma
CATEGORIES:Danza,Eventi In Primo Piano,Eventi Roma
ATTACH;FMTTYPE=image/jpeg:https://www.csainlazio.it/wp-content/uploads/2023/12/JAM-FACTORY-3.jpg
ORGANIZER;CN="Csain Lazio":MAILTO:segreteria@csainlazio.it
END:VEVENT
BEGIN:VEVENT
DTSTART;TZID=Europe/Rome:20231215T182600
DTEND;TZID=Europe/Rome:20231215T182600
DTSTAMP:20260424T014243
CREATED:20231215T172632Z
LAST-MODIFIED:20260419T164459Z
UID:10000179-1702664760-1702664760@www.csainlazio.it
SUMMARY:Coppa Tennis Csain Lazio 2023-2024
DESCRIPTION:Il campionato a squadre si svolgerà con una prima formula a gironi ed una successiva ad eliminazione diretta\,con tabellone principale per le migliori classificate dei gironi e tabellone secondario per le squadre eliminate nella fase a gironi. \nIl numero dei gironi sarà subordinato alle squadre iscritte. Saranno comunque garantite un minimo di 4 incontri tra girone e tabellone ad eliminazione diretta. \nOgni squadra dovrà essere composta da un minimo di 2 giocatori a un massimo di 6. La lista della squadra con relativa quota d’iscrizione dovrà essere presentata entro e non oltre 8 giorni antecedenti l’inizio della competizione. Dopo la fase a giorni\, potrà essere aggiunto un giocatore alla lista iniziale in sostituzione di un componente della prima lista. \nIn allegato alla presentazione della lista con i nomi dei giocatori\, ogni circolo dovrà segnalare la disponibilità di giorno e orario per poter disputare gli incontri casalinghi nei weekend (es. il sabato dalle 14 ; la domenica alle 10 ; la domenica alle 14). \nNella fase a giorni\, ogni squadra giocherà sia in casa che fuori casa. Il circolo ospitante metterà a disposizione un campo (o due campi qualora ci sia la possibilità\, ma senza nessuno vincolo di obbligatorietà) per lo svolgimento delle gare. \nLe partite saranno con la formula di due singolari e un doppio.I due singolaristi di casa\, giocheranno contro i singolaristi ospiti nella prima giornata per il sorteggio (dalla seconda giornata sarà sviluppata una classifica con vittorie/sconfitte dei giocatori per definire nelle restanti giornate un “numero uno” e un “numero due”). Il doppio potrà essere giocato dagli stessi singolaristi o da altri giocatori\, sempre appartenenti alla lista presentata in sede di iscrizione. \nScarica il regolamento
URL:https://www.csainlazio.it/evento/coppa-tennis-csain-lazio-2023-2024-2/2023-12-15/
LOCATION:ROMA\, Italia
CATEGORIES:Eventi In Primo Piano,Eventi Roma,Tennis
ATTACH;FMTTYPE=image/jpeg:https://www.csainlazio.it/wp-content/uploads/2023/11/COPPA-TENNIS-3.jpg
ORGANIZER;CN="Settore Tennis":MAILTO:tennis@csainlazio.it
END:VEVENT
END:VCALENDAR