BEGIN:VCALENDAR
VERSION:2.0
PRODID:-//Csain Lazio - ECPv6.15.20//NONSGML v1.0//EN
CALSCALE:GREGORIAN
METHOD:PUBLISH
X-WR-CALNAME:Csain Lazio
X-ORIGINAL-URL:https://www.csainlazio.it
X-WR-CALDESC:Eventi per Csain Lazio
REFRESH-INTERVAL;VALUE=DURATION:PT1H
X-Robots-Tag:noindex
X-PUBLISHED-TTL:PT1H
BEGIN:VTIMEZONE
TZID:Europe/Rome
BEGIN:DAYLIGHT
TZOFFSETFROM:+0100
TZOFFSETTO:+0200
TZNAME:CEST
DTSTART:20250330T010000
END:DAYLIGHT
BEGIN:STANDARD
TZOFFSETFROM:+0200
TZOFFSETTO:+0100
TZNAME:CET
DTSTART:20251026T010000
END:STANDARD
BEGIN:DAYLIGHT
TZOFFSETFROM:+0100
TZOFFSETTO:+0200
TZNAME:CEST
DTSTART:20260329T010000
END:DAYLIGHT
BEGIN:STANDARD
TZOFFSETFROM:+0200
TZOFFSETTO:+0100
TZNAME:CET
DTSTART:20261025T010000
END:STANDARD
BEGIN:DAYLIGHT
TZOFFSETFROM:+0100
TZOFFSETTO:+0200
TZNAME:CEST
DTSTART:20270328T010000
END:DAYLIGHT
BEGIN:STANDARD
TZOFFSETFROM:+0200
TZOFFSETTO:+0100
TZNAME:CET
DTSTART:20271031T010000
END:STANDARD
END:VTIMEZONE
BEGIN:VEVENT
DTSTART;TZID=Europe/Rome:20260516T160000
DTEND;TZID=Europe/Rome:20260516T220000
DTSTAMP:20260422T015209
CREATED:20260216T174351Z
LAST-MODIFIED:20260410T090958Z
UID:10002317-1778947200-1778968800@www.csainlazio.it
SUMMARY:Rough Battle
DESCRIPTION:ROUGH Choreographic Contest + Freestyle Battle\n\nDATA: 11 maggio 2025\n\nLOCATION: LARGO VENUE – via Biordo Michelotti 2\, Roma\n\nL’11 maggio ROUGH raddoppia l’appuntamento\, offrendo la possibilità di mettersi in gioco sia ai talenti del settore coreografico che della scena freestyle! Unica data\, doppio evento:\n\nORE 12:00 CONTEST COREOGRAFICO\nil contest è aperto a danzatori di ogni età ed esperienza\, suddivisi in quattro categorie in base all’età:\n\n 	BABY (5-8 anni)\n 	KIDS (9-12 anni)\n 	JUNIOR (13-16 anni)\n 	SENIOR (dai 17 anni)\n\nLe discipline in concorso saranno HIP HOP – VIDEODANCE – CONTAMINAZIONE e sarà possibile partecipare come solisti\, duo e gruppi. Questo approccio flessibile consente a danzatori di tutti i livelli di mettersi in gioco e di condividere il proprio talento con un pubblico ampio e appassionato.\n\n \n\nORE 16:00 FREESTYLE BATTLE\nAperto a ballerini Hip Hop\, che si sfideranno 1vs1 sulla musica mixata dal vivo\, passando attraverso Funk\, Hip Hop ed Elettronica.\n\nCategorie:\n\n 	HIP HOP KIDS (under 11)\n 	HIP HOP TEENS (under 16)\n 	HIP HOP OPEN\n\n \n\nPer completare l’iscrizione: invia il modulo compilato e la distinta di pagamento a hiphop@csainlazio.it\n\nREGOLAMENTO CONTEST\n\nREGOLAMENTO BATTLE\n\n 
URL:https://www.csainlazio.it/evento/rough-battle/
LOCATION:Pass village\, Via Padre Agostino Fioravanti\, 90\, Roma\, 00132\, Italy
CATEGORIES:Danza,Eventi In Primo Piano,Eventi Roma
ATTACH;FMTTYPE=image/jpeg:https://www.csainlazio.it/wp-content/uploads/2026/02/ORIZZONTALE.jpg
ORGANIZER;CN="Settore Urban Csain Lazio":MAILTO:hiphop@csainlazio.it
END:VEVENT
BEGIN:VEVENT
DTSTART;TZID=Europe/Rome:20260523T080000
DTEND;TZID=Europe/Rome:20260731T170000
DTSTAMP:20260422T015210
CREATED:20260421T095032Z
LAST-MODIFIED:20260421T102212Z
UID:10002333-1779523200-1785517200@www.csainlazio.it
SUMMARY:CSAIN PADEL CLUB CUP – Special Edition 2026
DESCRIPTION:ROUGH Choreographic Contest + Freestyle Battle\n\nDATA: 11 maggio 2025\n\nLOCATION: LARGO VENUE – via Biordo Michelotti 2\, Roma\n\nL’11 maggio ROUGH raddoppia l’appuntamento\, offrendo la possibilità di mettersi in gioco sia ai talenti del settore coreografico che della scena freestyle! Unica data\, doppio evento:\n\nORE 12:00 CONTEST COREOGRAFICO\nil contest è aperto a danzatori di ogni età ed esperienza\, suddivisi in quattro categorie in base all’età:\n\n 	BABY (5-8 anni)\n 	KIDS (9-12 anni)\n 	JUNIOR (13-16 anni)\n 	SENIOR (dai 17 anni)\n\nLe discipline in concorso saranno HIP HOP – VIDEODANCE – CONTAMINAZIONE e sarà possibile partecipare come solisti\, duo e gruppi. Questo approccio flessibile consente a danzatori di tutti i livelli di mettersi in gioco e di condividere il proprio talento con un pubblico ampio e appassionato.\n\n \n\nORE 16:00 FREESTYLE BATTLE\nAperto a ballerini Hip Hop\, che si sfideranno 1vs1 sulla musica mixata dal vivo\, passando attraverso Funk\, Hip Hop ed Elettronica.\n\nCategorie:\n\n 	HIP HOP KIDS (under 11)\n 	HIP HOP TEENS (under 16)\n 	HIP HOP OPEN\n\n \n\nPer completare l’iscrizione: invia il modulo compilato e la distinta di pagamento a hiphop@csainlazio.it\n\nREGOLAMENTO CONTEST\n\nREGOLAMENTO BATTLE\n\n 
URL:https://www.csainlazio.it/evento/csain-padel-club-cup-special-edition-2026/
CATEGORIES:Eventi In Primo Piano,Eventi Roma
ATTACH;FMTTYPE=image/jpeg:https://www.csainlazio.it/wp-content/uploads/2026/04/csain-padel-club-cup-orizzontale.jpg
END:VEVENT
BEGIN:VEVENT
DTSTART;TZID=Europe/Rome:20260531T140000
DTEND;TZID=Europe/Rome:20260531T190000
DTSTAMP:20260422T015210
CREATED:20260114T091531Z
LAST-MODIFIED:20260416T135905Z
UID:10002329-1780236000-1780254000@www.csainlazio.it
SUMMARY:Circuito Nuoto “Sprint Cup” CSAIn Lazio 2026
DESCRIPTION:ROUGH Choreographic Contest + Freestyle Battle\n\nDATA: 11 maggio 2025\n\nLOCATION: LARGO VENUE – via Biordo Michelotti 2\, Roma\n\nL’11 maggio ROUGH raddoppia l’appuntamento\, offrendo la possibilità di mettersi in gioco sia ai talenti del settore coreografico che della scena freestyle! Unica data\, doppio evento:\n\nORE 12:00 CONTEST COREOGRAFICO\nil contest è aperto a danzatori di ogni età ed esperienza\, suddivisi in quattro categorie in base all’età:\n\n 	BABY (5-8 anni)\n 	KIDS (9-12 anni)\n 	JUNIOR (13-16 anni)\n 	SENIOR (dai 17 anni)\n\nLe discipline in concorso saranno HIP HOP – VIDEODANCE – CONTAMINAZIONE e sarà possibile partecipare come solisti\, duo e gruppi. Questo approccio flessibile consente a danzatori di tutti i livelli di mettersi in gioco e di condividere il proprio talento con un pubblico ampio e appassionato.\n\n \n\nORE 16:00 FREESTYLE BATTLE\nAperto a ballerini Hip Hop\, che si sfideranno 1vs1 sulla musica mixata dal vivo\, passando attraverso Funk\, Hip Hop ed Elettronica.\n\nCategorie:\n\n 	HIP HOP KIDS (under 11)\n 	HIP HOP TEENS (under 16)\n 	HIP HOP OPEN\n\n \n\nPer completare l’iscrizione: invia il modulo compilato e la distinta di pagamento a hiphop@csainlazio.it\n\nREGOLAMENTO CONTEST\n\nREGOLAMENTO BATTLE\n\n 
URL:https://www.csainlazio.it/evento/circuito-nuoto-sprint-cup-csain-lazio-2026/2026-05-31/
LOCATION:Club Nomentano\, Viale Rousseau 124 / Viale Kant 312\, Roma\, Italy
CATEGORIES:Eventi In Primo Piano,Eventi Roma,Nuoto
ATTACH;FMTTYPE=image/jpeg:https://www.csainlazio.it/wp-content/uploads/2026/01/ORIZZONTALE.jpg
ORGANIZER;CN="Settore Nuoto C.S.A.In Lazio":MAILTO:nuoto@csainlazio.it
END:VEVENT
BEGIN:VEVENT
DTSTART;TZID=Europe/Rome:20260601T080000
DTEND;TZID=Europe/Rome:20260602T170000
DTSTAMP:20260422T015210
CREATED:20260421T141037Z
LAST-MODIFIED:20260421T141037Z
UID:10002334-1780300800-1780419600@www.csainlazio.it
SUMMARY:Finale Regionale GAF e GAM e Coppa Lazio 2026
DESCRIPTION:ROUGH Choreographic Contest + Freestyle Battle\n\nDATA: 11 maggio 2025\n\nLOCATION: LARGO VENUE – via Biordo Michelotti 2\, Roma\n\nL’11 maggio ROUGH raddoppia l’appuntamento\, offrendo la possibilità di mettersi in gioco sia ai talenti del settore coreografico che della scena freestyle! Unica data\, doppio evento:\n\nORE 12:00 CONTEST COREOGRAFICO\nil contest è aperto a danzatori di ogni età ed esperienza\, suddivisi in quattro categorie in base all’età:\n\n 	BABY (5-8 anni)\n 	KIDS (9-12 anni)\n 	JUNIOR (13-16 anni)\n 	SENIOR (dai 17 anni)\n\nLe discipline in concorso saranno HIP HOP – VIDEODANCE – CONTAMINAZIONE e sarà possibile partecipare come solisti\, duo e gruppi. Questo approccio flessibile consente a danzatori di tutti i livelli di mettersi in gioco e di condividere il proprio talento con un pubblico ampio e appassionato.\n\n \n\nORE 16:00 FREESTYLE BATTLE\nAperto a ballerini Hip Hop\, che si sfideranno 1vs1 sulla musica mixata dal vivo\, passando attraverso Funk\, Hip Hop ed Elettronica.\n\nCategorie:\n\n 	HIP HOP KIDS (under 11)\n 	HIP HOP TEENS (under 16)\n 	HIP HOP OPEN\n\n \n\nPer completare l’iscrizione: invia il modulo compilato e la distinta di pagamento a hiphop@csainlazio.it\n\nREGOLAMENTO CONTEST\n\nREGOLAMENTO BATTLE\n\n 
URL:https://www.csainlazio.it/evento/finale-regionale-gaf-gam-coppa-lazio-2026/
LOCATION:PalaSport “A. Sorbo” – Palazzetto dello Sport\, PalaSport “A. Sorbo” – Palazzetto dello Sport\, Ladispoli (RM)
CATEGORIES:Eventi In Primo Piano,Eventi Roma,Ginnastica Artistica
ATTACH;FMTTYPE=image/jpeg:https://www.csainlazio.it/wp-content/uploads/2026/04/Finale-Regionale-GAF-e-GAM-e-Coppa-Lazio-2026.jpg
ORGANIZER;CN="Settore Ginnastica Artistica":MAILTO:artistica@csainlazio.it
END:VEVENT
BEGIN:VEVENT
DTSTART;TZID=Europe/Rome:20260702T045800
DTEND;TZID=Europe/Rome:20260702T225800
DTSTAMP:20260422T015210
CREATED:20260218T100233Z
LAST-MODIFIED:20260419T165107Z
UID:10002323-1782968280-1783033080@www.csainlazio.it
SUMMARY:Baby Butterfly Cup – Ginnastica Ritmica CSAIn Lazio
DESCRIPTION:ROUGH Choreographic Contest + Freestyle Battle\n\nDATA: 11 maggio 2025\n\nLOCATION: LARGO VENUE – via Biordo Michelotti 2\, Roma\n\nL’11 maggio ROUGH raddoppia l’appuntamento\, offrendo la possibilità di mettersi in gioco sia ai talenti del settore coreografico che della scena freestyle! Unica data\, doppio evento:\n\nORE 12:00 CONTEST COREOGRAFICO\nil contest è aperto a danzatori di ogni età ed esperienza\, suddivisi in quattro categorie in base all’età:\n\n 	BABY (5-8 anni)\n 	KIDS (9-12 anni)\n 	JUNIOR (13-16 anni)\n 	SENIOR (dai 17 anni)\n\nLe discipline in concorso saranno HIP HOP – VIDEODANCE – CONTAMINAZIONE e sarà possibile partecipare come solisti\, duo e gruppi. Questo approccio flessibile consente a danzatori di tutti i livelli di mettersi in gioco e di condividere il proprio talento con un pubblico ampio e appassionato.\n\n \n\nORE 16:00 FREESTYLE BATTLE\nAperto a ballerini Hip Hop\, che si sfideranno 1vs1 sulla musica mixata dal vivo\, passando attraverso Funk\, Hip Hop ed Elettronica.\n\nCategorie:\n\n 	HIP HOP KIDS (under 11)\n 	HIP HOP TEENS (under 16)\n 	HIP HOP OPEN\n\n \n\nPer completare l’iscrizione: invia il modulo compilato e la distinta di pagamento a hiphop@csainlazio.it\n\nREGOLAMENTO CONTEST\n\nREGOLAMENTO BATTLE\n\n 
URL:https://www.csainlazio.it/evento/baby-butterfly-cup-ginnastica-ritmica-csain-lazio-2/2026-07-02/
LOCATION:Roma\, Via della Cellulosa 29
CATEGORIES:Eventi In Primo Piano,Eventi Roma,Ginnastica Ritmica
ATTACH;FMTTYPE=image/jpeg:https://www.csainlazio.it/wp-content/uploads/2026/02/BABY-BUTTERFLY-CUP-ORIZZONTALE.jpg
ORGANIZER;CN="Settore Ginnastica Ritmica Csain Lazio":MAILTO:ritmica@csainlazio.it
END:VEVENT
BEGIN:VEVENT
DTSTART;TZID=Europe/Rome:20260719T204100
DTEND;TZID=Europe/Rome:20260720T044100
DTSTAMP:20260422T015210
CREATED:20260119T081903Z
LAST-MODIFIED:20260326T181931Z
UID:10002305-1784493660-1784522460@www.csainlazio.it
SUMMARY:Circuito Nuoto “Sprint Cup” CSAIn Lazio 2026
DESCRIPTION:ROUGH Choreographic Contest + Freestyle Battle\n\nDATA: 11 maggio 2025\n\nLOCATION: LARGO VENUE – via Biordo Michelotti 2\, Roma\n\nL’11 maggio ROUGH raddoppia l’appuntamento\, offrendo la possibilità di mettersi in gioco sia ai talenti del settore coreografico che della scena freestyle! Unica data\, doppio evento:\n\nORE 12:00 CONTEST COREOGRAFICO\nil contest è aperto a danzatori di ogni età ed esperienza\, suddivisi in quattro categorie in base all’età:\n\n 	BABY (5-8 anni)\n 	KIDS (9-12 anni)\n 	JUNIOR (13-16 anni)\n 	SENIOR (dai 17 anni)\n\nLe discipline in concorso saranno HIP HOP – VIDEODANCE – CONTAMINAZIONE e sarà possibile partecipare come solisti\, duo e gruppi. Questo approccio flessibile consente a danzatori di tutti i livelli di mettersi in gioco e di condividere il proprio talento con un pubblico ampio e appassionato.\n\n \n\nORE 16:00 FREESTYLE BATTLE\nAperto a ballerini Hip Hop\, che si sfideranno 1vs1 sulla musica mixata dal vivo\, passando attraverso Funk\, Hip Hop ed Elettronica.\n\nCategorie:\n\n 	HIP HOP KIDS (under 11)\n 	HIP HOP TEENS (under 16)\n 	HIP HOP OPEN\n\n \n\nPer completare l’iscrizione: invia il modulo compilato e la distinta di pagamento a hiphop@csainlazio.it\n\nREGOLAMENTO CONTEST\n\nREGOLAMENTO BATTLE\n\n 
URL:https://www.csainlazio.it/evento/circuito-nuoto-sprint-cup-csain-lazio-2026-2/
LOCATION:Club Nomentano\, Viale Rousseau 124 / Viale Kant 312\, Roma\, Italy
CATEGORIES:Eventi In Primo Piano,Eventi Roma,Nuoto
ATTACH;FMTTYPE=image/jpeg:https://www.csainlazio.it/wp-content/uploads/2026/01/ORIZZONTALE.jpg
ORGANIZER;CN="Settore Nuoto C.S.A.In Lazio":MAILTO:nuoto@csainlazio.it
END:VEVENT
BEGIN:VEVENT
DTSTART;VALUE=DATE:20260821
DTEND;VALUE=DATE:20260824
DTSTAMP:20260422T015210
CREATED:20260410T133632Z
LAST-MODIFIED:20260414T104009Z
UID:10002332-1787270400-1787529599@www.csainlazio.it
SUMMARY:Vibes - Summer Dance Camp 2026
DESCRIPTION:ROUGH Choreographic Contest + Freestyle Battle\n\nDATA: 11 maggio 2025\n\nLOCATION: LARGO VENUE – via Biordo Michelotti 2\, Roma\n\nL’11 maggio ROUGH raddoppia l’appuntamento\, offrendo la possibilità di mettersi in gioco sia ai talenti del settore coreografico che della scena freestyle! Unica data\, doppio evento:\n\nORE 12:00 CONTEST COREOGRAFICO\nil contest è aperto a danzatori di ogni età ed esperienza\, suddivisi in quattro categorie in base all’età:\n\n 	BABY (5-8 anni)\n 	KIDS (9-12 anni)\n 	JUNIOR (13-16 anni)\n 	SENIOR (dai 17 anni)\n\nLe discipline in concorso saranno HIP HOP – VIDEODANCE – CONTAMINAZIONE e sarà possibile partecipare come solisti\, duo e gruppi. Questo approccio flessibile consente a danzatori di tutti i livelli di mettersi in gioco e di condividere il proprio talento con un pubblico ampio e appassionato.\n\n \n\nORE 16:00 FREESTYLE BATTLE\nAperto a ballerini Hip Hop\, che si sfideranno 1vs1 sulla musica mixata dal vivo\, passando attraverso Funk\, Hip Hop ed Elettronica.\n\nCategorie:\n\n 	HIP HOP KIDS (under 11)\n 	HIP HOP TEENS (under 16)\n 	HIP HOP OPEN\n\n \n\nPer completare l’iscrizione: invia il modulo compilato e la distinta di pagamento a hiphop@csainlazio.it\n\nREGOLAMENTO CONTEST\n\nREGOLAMENTO BATTLE\n\n 
URL:https://www.csainlazio.it/evento/vibes-summer-dance-camp-2026/
LOCATION:BABEL\, via Tommaso Traetta 70\, Roma (Infernetto)\, Italy
CATEGORIES:Danza,Eventi In Primo Piano
ATTACH;FMTTYPE=image/jpeg:https://www.csainlazio.it/wp-content/uploads/2026/04/vibes-2026.jpg
END:VEVENT
BEGIN:VEVENT
DTSTART;TZID=Europe/Rome:20260905T080000
DTEND;TZID=Europe/Rome:20260905T170000
DTSTAMP:20260422T015210
CREATED:20260218T100233Z
LAST-MODIFIED:20260419T165107Z
UID:10002319-1788595200-1788627600@www.csainlazio.it
SUMMARY:Baby Butterfly Cup – Ginnastica Ritmica CSAIn Lazio
DESCRIPTION:ROUGH Choreographic Contest + Freestyle Battle\n\nDATA: 11 maggio 2025\n\nLOCATION: LARGO VENUE – via Biordo Michelotti 2\, Roma\n\nL’11 maggio ROUGH raddoppia l’appuntamento\, offrendo la possibilità di mettersi in gioco sia ai talenti del settore coreografico che della scena freestyle! Unica data\, doppio evento:\n\nORE 12:00 CONTEST COREOGRAFICO\nil contest è aperto a danzatori di ogni età ed esperienza\, suddivisi in quattro categorie in base all’età:\n\n 	BABY (5-8 anni)\n 	KIDS (9-12 anni)\n 	JUNIOR (13-16 anni)\n 	SENIOR (dai 17 anni)\n\nLe discipline in concorso saranno HIP HOP – VIDEODANCE – CONTAMINAZIONE e sarà possibile partecipare come solisti\, duo e gruppi. Questo approccio flessibile consente a danzatori di tutti i livelli di mettersi in gioco e di condividere il proprio talento con un pubblico ampio e appassionato.\n\n \n\nORE 16:00 FREESTYLE BATTLE\nAperto a ballerini Hip Hop\, che si sfideranno 1vs1 sulla musica mixata dal vivo\, passando attraverso Funk\, Hip Hop ed Elettronica.\n\nCategorie:\n\n 	HIP HOP KIDS (under 11)\n 	HIP HOP TEENS (under 16)\n 	HIP HOP OPEN\n\n \n\nPer completare l’iscrizione: invia il modulo compilato e la distinta di pagamento a hiphop@csainlazio.it\n\nREGOLAMENTO CONTEST\n\nREGOLAMENTO BATTLE\n\n 
URL:https://www.csainlazio.it/evento/baby-butterfly-cup-ginnastica-ritmica-csain-lazio-2/2026-09-05/
LOCATION:Roma\, Via della Cellulosa 29
CATEGORIES:Eventi In Primo Piano,Eventi Roma,Ginnastica Ritmica
ATTACH;FMTTYPE=image/jpeg:https://www.csainlazio.it/wp-content/uploads/2026/02/BABY-BUTTERFLY-CUP-ORIZZONTALE.jpg
ORGANIZER;CN="Settore Ginnastica Ritmica Csain Lazio":MAILTO:ritmica@csainlazio.it
END:VEVENT
END:VCALENDAR