BEGIN:VCALENDAR
VERSION:2.0
PRODID:-//Csain Lazio - ECPv6.15.20//NONSGML v1.0//EN
CALSCALE:GREGORIAN
METHOD:PUBLISH
X-WR-CALNAME:Csain Lazio
X-ORIGINAL-URL:https://www.csainlazio.it
X-WR-CALDESC:Eventi per Csain Lazio
REFRESH-INTERVAL;VALUE=DURATION:PT1H
X-Robots-Tag:noindex
X-PUBLISHED-TTL:PT1H
BEGIN:VTIMEZONE
TZID:Europe/Rome
BEGIN:DAYLIGHT
TZOFFSETFROM:+0100
TZOFFSETTO:+0200
TZNAME:CEST
DTSTART:20240331T010000
END:DAYLIGHT
BEGIN:STANDARD
TZOFFSETFROM:+0200
TZOFFSETTO:+0100
TZNAME:CET
DTSTART:20241027T010000
END:STANDARD
BEGIN:DAYLIGHT
TZOFFSETFROM:+0100
TZOFFSETTO:+0200
TZNAME:CEST
DTSTART:20250330T010000
END:DAYLIGHT
BEGIN:STANDARD
TZOFFSETFROM:+0200
TZOFFSETTO:+0100
TZNAME:CET
DTSTART:20251026T010000
END:STANDARD
BEGIN:DAYLIGHT
TZOFFSETFROM:+0100
TZOFFSETTO:+0200
TZNAME:CEST
DTSTART:20260329T010000
END:DAYLIGHT
BEGIN:STANDARD
TZOFFSETFROM:+0200
TZOFFSETTO:+0100
TZNAME:CET
DTSTART:20261025T010000
END:STANDARD
END:VTIMEZONE
BEGIN:VEVENT
DTSTART;TZID=Europe/Rome:20250413T080000
DTEND;TZID=Europe/Rome:20250413T170000
DTSTAMP:20260420T233238
CREATED:20240923T094307Z
LAST-MODIFIED:20260419T164438Z
UID:10000250-1744531200-1744563600@www.csainlazio.it
SUMMARY:Baby Butterfly Cup 2024
DESCRIPTION:Baby Butterfly Cup: La Gara Perfetta per le Giovani Ginnaste\nBenvenuti alla Baby Butterfly Cup\, la competizione non agonistica ideale per le ginnaste dei corsi base che muovono i primi passi nel mondo delle gare. Questa è l’opportunità perfetta per le giovani atlete di mettersi alla prova e vivere l’emozione di una vera competizione in un ambiente sicuro e stimolante. \nLa Baby Butterfly Cup offre tre categorie distinte per soddisfare le esigenze di ogni ginnasta: \n1. Percorso Motorio: Un percorso in linea retta che include tutti gli elementi e gli attrezzi della Ginnastica Ritmica\, perfetto per le ginnaste alle prime armi. \n2. Programma Preagonismo: Basato sui programmi della Federazione Ginnastica d’Italia (FGI)\, è riservato alle ginnaste che non possono partecipare alle gare federali per limiti di età\, ma che desiderano comunque cimentarsi con il programma FGI. \n3. Programma Raffaeli: Dedicato alle ginnaste non agoniste che stanno muovendo i primi passi nella Ginnastica Ritmica. \nPer garantire la massima sicurezza e il rispetto delle regole\, tutti gli atleti e i tecnici devono essere in regola con il Tesseramento C.S.A.In. per l’anno 2024/2025. Le ginnaste dovranno indossare mezze punte e un costume da ginnastica corretto e non trasparente\, seguendo le linee guida fornite. \nLa Baby Butterfly Cup si impegna a creare un ambiente inclusivo e divertente per tutte le partecipanti. Non verranno stilate classifiche di merito\, ma ogni ginnasta sarà premiata per il suo impegno e la sua passione\, senza dichiarare il punteggio ottenuto. \nLe ginnaste che partecipano ai Campionati FGI o al Campionato Nazionale C.S.A.In. non possono prendere parte ai programmi della Baby Butterfly Cup\, in quanto questa competizione è riservata esclusivamente alle atlete dei corsi base. \nNon perdete l’occasione di far vivere alle vostre giovani ginnaste un’esperienza indimenticabile. Iscrivetevi ora alla Baby Butterfly Cup e permettete loro di brillare come le farfalle che sono! \nPer ulteriori informazioni sui requisiti di partecipazione\, le categorie e le regole\, vi invitiamo a consultare il nostro sito web o a contattare il nostro team dedicato. \nLa Baby Butterfly Cup: dove i sogni delle giovani ginnaste prendono il volo! \n\nSCARICA IL REGOLAMENTO
URL:https://www.csainlazio.it/evento/baby-butterfly-cup-2024/2025-04-13/
CATEGORIES:Eventi In Primo Piano,Eventi Roma,Ginnastica Ritmica
ATTACH;FMTTYPE=image/jpeg:https://www.csainlazio.it/wp-content/uploads/2024/09/ORIZONTALE-2-2.jpg
ORGANIZER;CN="Settore Ginnastica Ritmica Csain Lazio":MAILTO:ritmica@csainlazio.it
END:VEVENT
END:VCALENDAR