BEGIN:VCALENDAR
VERSION:2.0
PRODID:-//Csain Lazio - ECPv6.15.20//NONSGML v1.0//EN
CALSCALE:GREGORIAN
METHOD:PUBLISH
X-WR-CALNAME:Csain Lazio
X-ORIGINAL-URL:https://www.csainlazio.it
X-WR-CALDESC:Eventi per Csain Lazio
REFRESH-INTERVAL;VALUE=DURATION:PT1H
X-Robots-Tag:noindex
X-PUBLISHED-TTL:PT1H
BEGIN:VTIMEZONE
TZID:Europe/Rome
BEGIN:DAYLIGHT
TZOFFSETFROM:+0100
TZOFFSETTO:+0200
TZNAME:CEST
DTSTART:20230326T010000
END:DAYLIGHT
BEGIN:STANDARD
TZOFFSETFROM:+0200
TZOFFSETTO:+0100
TZNAME:CET
DTSTART:20231029T010000
END:STANDARD
BEGIN:DAYLIGHT
TZOFFSETFROM:+0100
TZOFFSETTO:+0200
TZNAME:CEST
DTSTART:20240331T010000
END:DAYLIGHT
BEGIN:STANDARD
TZOFFSETFROM:+0200
TZOFFSETTO:+0100
TZNAME:CET
DTSTART:20241027T010000
END:STANDARD
BEGIN:DAYLIGHT
TZOFFSETFROM:+0100
TZOFFSETTO:+0200
TZNAME:CEST
DTSTART:20250330T010000
END:DAYLIGHT
BEGIN:STANDARD
TZOFFSETFROM:+0200
TZOFFSETTO:+0100
TZNAME:CET
DTSTART:20251026T010000
END:STANDARD
END:VTIMEZONE
BEGIN:VEVENT
DTSTART;TZID=Europe/Rome:20241214T080000
DTEND;TZID=Europe/Rome:20241215T190000
DTSTAMP:20260422T030252
CREATED:20240916T200848Z
LAST-MODIFIED:20260419T164442Z
UID:10000238-1734163200-1734289200@www.csainlazio.it
SUMMARY:3° Trofeo di Natale Ginnastica Ritmica Csain Lazio
DESCRIPTION:Siamo lieti di annunciare il 3° Trofeo di Natale di Ginnastica Ritmica organizzato da Csain Lazio\, che si terrà il 14 e 15 Dicembre 2024. Questo evento rappresenta un’occasione imperdibile per tutte le ginnaste appassionate di questo meraviglioso sport di mostare il loro talento e la loro dedizione. \nLa competizione è aperta a diverse fasce d’età\, dalle esordienti alle senior\, offrendo a tutte le partecipanti l’opportunità di mettersi alla prova e di vivere un’esperienza indimenticabile. Le ginnaste potranno cimentarsi in due esercizi individuali\, sfidando se stesse e le altre concorrenti in un contesto di sana competizione e divertimento. \nL’evento si svolgerà secondo regole ben definite\, volte a garantire la massima trasparenza e imparzialità. Il punteggio finale sarà determinato dalla somma dei punteggi di esecuzione\, falli e difficoltà valide\, mentre eventuali penalità saranno applicate in caso di esigenze mancanti. Le classifiche saranno stilate per categoria e specialità\, premiando le ginnaste più meritevoli. \nOltre ai riconoscimenti per le prestazioni atletiche\, verranno assegnati anche premi speciali come Miss Eleganza\, Miss Sorriso e Miss Espressività\, celebrando così la grazia\, la gioia e l’arte che contraddistinguono questa disciplina. Inoltre\, le prime tre società con il maggior numero di partecipanti saranno premiate\, e una di esse si aggiudicherà l’ambito Trofeo di Natale CSAIn. \nPer partecipare al 3° Trofeo di Natale di Ginnastica Ritmica Csain Lazio\, le iscrizioni dovranno essere inviate entro 20 giorni prima della gara\, complete di modulo compilato e quota di partecipazione. È importante notare che le quote versate non sono rimborsabili\, se non in caso di annullamento dell’evento. \nNon vediamo l’ora di accogliere tutte le ginnaste e le società partecipanti\, per condividere insieme la passione per la ginnastica ritmica e celebrare il talento e l’impegno di ognuna di loro. Che questo Trofeo di Natale sia un momento di gioia\, di crescita e di condivisione per tutte le giovani atlete coinvolte. \nPer ulteriori informazioni e dettagli\, vi invitiamo a contattare la responsabile regionale CSAIn\, Francesca Ripandelli\, al numero 349 433 8137 o all’indirizzo email ritmica@csainlazio.it. \nNon perdete l’opportunità di partecipare a questo straordinario evento sportivo. Vi aspettiamo con entusiasmo al 3° Trofeo di Natale di Ginnastica Ritmica Csain Lazio! \n   \n  \n  \n			\n									Scarica il regolamento
URL:https://www.csainlazio.it/evento/3-trofeo-di-natale-ginnastica-ritmica-csain-lazio/
CATEGORIES:Ginnastica Ritmica
ATTACH;FMTTYPE=image/jpeg:https://www.csainlazio.it/wp-content/uploads/2024/09/ORIZONTALE-2.jpg
ORGANIZER;CN="Settore Ginnastica Ritmica Csain Lazio":MAILTO:ritmica@csainlazio.it
END:VEVENT
END:VCALENDAR