BEGIN:VCALENDAR
VERSION:2.0
PRODID:-//Csain Lazio - ECPv6.15.20//NONSGML v1.0//EN
CALSCALE:GREGORIAN
METHOD:PUBLISH
X-ORIGINAL-URL:https://www.csainlazio.it
X-WR-CALDESC:Eventi per Csain Lazio
REFRESH-INTERVAL;VALUE=DURATION:PT1H
X-Robots-Tag:noindex
X-PUBLISHED-TTL:PT1H
BEGIN:VTIMEZONE
TZID:Europe/Rome
BEGIN:DAYLIGHT
TZOFFSETFROM:+0100
TZOFFSETTO:+0200
TZNAME:CEST
DTSTART:20240331T010000
END:DAYLIGHT
BEGIN:STANDARD
TZOFFSETFROM:+0200
TZOFFSETTO:+0100
TZNAME:CET
DTSTART:20241027T010000
END:STANDARD
BEGIN:DAYLIGHT
TZOFFSETFROM:+0100
TZOFFSETTO:+0200
TZNAME:CEST
DTSTART:20250330T010000
END:DAYLIGHT
BEGIN:STANDARD
TZOFFSETFROM:+0200
TZOFFSETTO:+0100
TZNAME:CET
DTSTART:20251026T010000
END:STANDARD
BEGIN:DAYLIGHT
TZOFFSETFROM:+0100
TZOFFSETTO:+0200
TZNAME:CEST
DTSTART:20260329T010000
END:DAYLIGHT
BEGIN:STANDARD
TZOFFSETFROM:+0200
TZOFFSETTO:+0100
TZNAME:CET
DTSTART:20261025T010000
END:STANDARD
END:VTIMEZONE
BEGIN:VEVENT
DTSTART;VALUE=DATE:20251004
DTEND;VALUE=DATE:20251222
DTSTAMP:20260420T093204
CREATED:20251119T221803Z
LAST-MODIFIED:20260419T164934Z
UID:10000324-1759536000-1766361599@www.csainlazio.it
SUMMARY:Lo Sport è Salute: il progetto dello Csain Lazio per promuovere benessere\, educazione e inclusione
DESCRIPTION:Tivoli\, 28 e 29 marzo 2026Il Comitato Regionale Lazio dello Csain – Settore Karate organizza il 3° Grand Prix Karate Lazio\, un importante appuntamento dedicato agli atleti di tutte le categorie che desiderano confrontarsi in un contesto sportivo di alto livello\, all’insegna dei valori educativi e formativi del karate. La manifestazione si svolgerà sabato 28 e domenica 29 marzo 2026 presso il Palazzetto dello Sport “Paolo Tosto” di Tivoli\, e rappresenta uno dei principali eventi del calendario sportivo regionale dedicato alle arti marziali. L’evento riunirà società sportive\, tecnici e atleti provenienti da diverse regioni italiane\, offrendo due giornate di competizione e condivisione sportiva dedicate alle specialità del karate agonistico e promozionale. Luogo dell’eventoPalazzetto dello Sport “Paolo Tosto”Via Empolitana Km 300019 Tivoli (Roma) Specialità in garaDurante la manifestazione verranno disputate competizioni nelle seguenti discipline: Kata individuale Kumite individuale Parakarate Le gare saranno organizzate secondo i regolamenti federali di riferimento e secondo il regolamento tecnico dello Csain\, con l’obiettivo di garantire competizioni corrette\, sicure e di alto livello tecnico. Programma della manifestazione Sabato 28 marzo 2026Specialità: Kata e Parakarate Ore 14:00 – 14:30Accredito partecipanti e riunione di coordinamento con i tecnici Ore 14:30Saluto iniziale e avvio delle competizioni Le gare proseguiranno fino alle ore 19:30. Domenica 29 marzo 2026Specialità: Kumite Ore 08:30 – 09:00Accredito partecipanti e riunione di coordinamento con i tecnici Ore 09:00Saluto iniziale e inizio delle competizioni L’ordine di gara partirà dalle categorie giovanili per proseguire con le categorie superiori. Gli orari dettagliati verranno comunicati dopo la chiusura delle iscrizioni e la definizione dei tabelloni di gara. Categorie di partecipazione La competizione è aperta a numerose classi di età e livelli tecnici\, tra cui: U8 – Bambini U10 – Fanciulli U12 – Ragazzi Esordienti Cadetti Junior Senior Master Saranno inoltre previste competizioni dedicate agli atleti Parakarate\, suddivise per tipologia di disabilità e categoria tecnica. Quote di partecipazione Parakarate: gratuito Singola specialità: €25 Doppia specialità (Kata + Kumite): €40 Le quote dovranno essere versate dalle società sportive dopo la conferma dell’iscrizione degli atleti nei tabelloni gara. Modalità di iscrizione Le iscrizioni dovranno essere inviate entro e non oltre martedì 24 marzo 2026. Per partecipare è necessario: Compilare il modulo di iscrizione ufficiale (formato Excel). Inserire i dati degli atleti utilizzando i menu a tendina previsti nel file. Inviare la modulistica all’indirizzo email: 📧 infokarate@csainlazio.it Le iscrizioni verranno accettate in ordine cronologico fino al raggiungimento del numero massimo di partecipanti previsto dall’organizzazione. Non saranno accettate iscrizioni direttamente sul posto. Premi e classifiche La competizione si svolgerà con sistema ad eliminazione diretta. Sono previste premiazioni per: 1° classificato 2° classificato 3° classificato a pari merito Per le categorie giovanili preagonistiche è prevista anche una medaglia di partecipazione. Sarà inoltre stilata una classifica per società sportive sulla base dei risultati ottenuti dagli atleti durante la manifestazione. Informazioni e contattiPer ulteriori informazioni sull’evento è possibile contattare l’organizzazione: 📞 338 1215211📞 06 8366 4599 📧 infokarate@csainlazio.it Scarica il modulo di iscrizione kumiteScarica il modulo di iscrizione kata individuale 
URL:https://www.csainlazio.it/evento/lo-sport-e-salute-il-progetto-dello-csain-lazio-per-promuovere-benessere-educazione-e-inclusione/
CATEGORIES:Eventi Roma
ATTACH;FMTTYPE=image/jpeg:https://www.csainlazio.it/wp-content/uploads/2025/11/LO-SPORT-E-SALUTE.jpg
ORGANIZER;CN="Csain Lazio":MAILTO:segreteria@csainlazio.it
END:VEVENT
END:VCALENDAR