BEGIN:VCALENDAR
VERSION:2.0
PRODID:-//Csain Lazio - ECPv6.15.20//NONSGML v1.0//EN
CALSCALE:GREGORIAN
METHOD:PUBLISH
X-WR-CALNAME:Csain Lazio
X-ORIGINAL-URL:https://www.csainlazio.it
X-WR-CALDESC:Eventi per Csain Lazio
REFRESH-INTERVAL;VALUE=DURATION:PT1H
X-Robots-Tag:noindex
X-PUBLISHED-TTL:PT1H
BEGIN:VTIMEZONE
TZID:Europe/Rome
BEGIN:DAYLIGHT
TZOFFSETFROM:+0100
TZOFFSETTO:+0200
TZNAME:CEST
DTSTART:20250330T010000
END:DAYLIGHT
BEGIN:STANDARD
TZOFFSETFROM:+0200
TZOFFSETTO:+0100
TZNAME:CET
DTSTART:20251026T010000
END:STANDARD
BEGIN:DAYLIGHT
TZOFFSETFROM:+0100
TZOFFSETTO:+0200
TZNAME:CEST
DTSTART:20260329T010000
END:DAYLIGHT
BEGIN:STANDARD
TZOFFSETFROM:+0200
TZOFFSETTO:+0100
TZNAME:CET
DTSTART:20261025T010000
END:STANDARD
BEGIN:DAYLIGHT
TZOFFSETFROM:+0100
TZOFFSETTO:+0200
TZNAME:CEST
DTSTART:20270328T010000
END:DAYLIGHT
BEGIN:STANDARD
TZOFFSETFROM:+0200
TZOFFSETTO:+0100
TZNAME:CET
DTSTART:20271031T010000
END:STANDARD
END:VTIMEZONE
BEGIN:VEVENT
DTSTART;TZID=Europe/Rome:20260321T140000
DTEND;TZID=Europe/Rome:20260321T190000
DTSTAMP:20260421T194716
CREATED:20260114T091531Z
LAST-MODIFIED:20260416T135905Z
UID:10002326-1774101600-1774119600@www.csainlazio.it
SUMMARY:Circuito Nuoto “Sprint Cup” CSAIn Lazio 2026
DESCRIPTION:Campionato Regionale – Settore Nuoto \nIl Comitato Regionale Lazio dello Csain – Settore Nuoto organizza per la stagione sportiva 2026 il Circuito Nuoto “Sprint Cup”\, manifestazione regionale riservata agli atleti tesserati CSAIn. \nL’evento rappresenta un appuntamento di rilievo per il movimento natatorio regionale\, con un calendario articolato in più prove e una finale conclusiva\, pensato per valorizzare la partecipazione\, la competizione e la crescita tecnica degli atleti. \nScarica la documentazione\n  \n\n📅 Calendario gare 2026\n\n\n\n\n19 aprile 2026Scadenza iscrizioni: 13 aprile 2026 \n\n\n31 maggio 2026 – FinaliScadenza iscrizioni: 25 maggio 2026 \n\n\n\n\nProgramma ufficiale della terza tappa del circuito nuoto “Sprint Cup”\, in programma sabato 19 aprile 2026 presso il Club Nomentano di Roma\, nelle sedi di Viale Kant 312 e Viale Rousseau 124. \nLa manifestazione sarà dedicata alle prove di: \n\n25 metri dorso\n25 metri farfalla\n\nL’evento coinvolgerà atleti di diverse fasce d’età\, a partire dai più piccoli fino alle categorie superiori\, con un’organizzazione studiata per garantire sicurezza\, fluidità e rispetto dei tempi gara. \nProgramma gare e orari\nFemmine 2019 e Maschi 2018 \n\nRitrovo: ore 14:15\nRiscaldamento: 14:20\nInizio gare: 14:30\nPremiazioni a seguire\n\nFemmine 2018 e Maschi 2017 \n\nRitrovo: ore 15:15\nRiscaldamento: 15:20\nInizio gare: 15:30\nPremiazioni a seguire\n\nEsordienti B femmine e maschi \n\nRitrovo: ore 16:30\nRiscaldamento: 16:40\nInizio gare: 16:50\nPremiazioni a seguire\n\nEsordienti A femmine e maschi \n\nRitrovo: ore 17:45\nRiscaldamento: 17:50\nInizio gare: 18:00\nPremiazioni a seguire\n\nCategoria Unica e precedenti femmine e maschi \n\nRitrovo: ore 18:50\nRiscaldamento: 18:55\nInizio gare: 19:00\nPremiazioni a seguire\n\nDisposizioni organizzative\nPer ciascun atleta è consentito l’accesso a un massimo di due spettatori. Il personale addetto\, presso l’ingresso della piscina\, provvederà alla gestione degli accessi.\nA ogni referente di società verranno consegnate due tessere precaricate per l’utilizzo di docce e phon: una per lo spogliatoio maschile e una per lo spogliatoio femminile. Al termine della giornata di gare\, le tessere dovranno essere restituite in segreteria o alla referente Paola.\nGli spogliatoi messi a disposizione delle società ospiti si trovano al piano terra: uno maschile e uno femminile. Si raccomanda di accompagnare gli atleti nel rispetto del loro sesso.\nGli atleti\, nell’area d’attesa\, dovranno attendere l’addetto del personale\, che li inviterà ad accedere al piano vasca quando sarà il momento dell’inizio della loro gara.\nSul piano vasca si invitano gli allenatori a tenere nelle vicinanze gli atleti prossimi alla gara\, al fine di evitare ritardi nello svolgimento delle batterie.\nSi raccomanda la massima diffusione delle presenti disposizioni\, che dovranno essere necessariamente condivise con i referenti di società\, gli allenatori e i genitori. \n  \n  \n\n📋 Regolamento essenziale\n\n\nTutti gli atleti devono essere in possesso di certificato medico di idoneità generica\, depositato presso la società di appartenenza. \n\n\nFase eliminatoria: massimo 2 gare individuali per atleta a giornata. \n\n\nFase finale: massimo 4 gare individuali per atleta. \n\n\nIn finale sono previste anche staffette per categoria. \n\n\nQuota di iscrizione: € 7\,00 per gara. \n\n\nNon sono ammesse iscrizioni sul campo gara. \n\n\n  \n\n✉️ Modalità di iscrizione\nLe Società partecipanti dovranno: \n\n\nCompilare il foglio riepilogativo di iscrizione; \n\n\nInviare il modulo compilato insieme alla contabile del bonifico; \n\n\nTrasmettere il tutto all’indirizzo email:📧 nuoto@csainlazio.it \n\n\n📞 Informazioni: 379 2348 135\n  \n\n🏅 Organizzazione\nManifestazione organizzata dal Comitato Regionale Lazio dello Csain – Settore Nuoto\, nell’ambito delle attività ufficiali di promozione sportiva regionale.
URL:https://www.csainlazio.it/evento/circuito-nuoto-sprint-cup-csain-lazio-2026/2026-03-21/
LOCATION:Club Nomentano\, Viale Rousseau 124 / Viale Kant 312\, Roma\, Italy
CATEGORIES:Eventi In Primo Piano,Eventi Roma,Nuoto
ATTACH;FMTTYPE=image/jpeg:https://www.csainlazio.it/wp-content/uploads/2026/01/ORIZZONTALE.jpg
ORGANIZER;CN="Settore Nuoto C.S.A.In Lazio":MAILTO:nuoto@csainlazio.it
END:VEVENT
BEGIN:VEVENT
DTSTART;TZID=Europe/Rome:20260327T083000
DTEND;TZID=Europe/Rome:20260328T210000
DTSTAMP:20260421T194716
CREATED:20260312T172245Z
LAST-MODIFIED:20260419T164824Z
UID:10002331-1774600200-1774731600@www.csainlazio.it
SUMMARY:3° Grand Prix Karate Lazio – CSAIn
DESCRIPTION:Tivoli\, 28 e 29 marzo 2026\nIl Comitato Regionale Lazio dello Csain – Settore Karate organizza il 3° Grand Prix Karate Lazio\, un importante appuntamento dedicato agli atleti di tutte le categorie che desiderano confrontarsi in un contesto sportivo di alto livello\, all’insegna dei valori educativi e formativi del karate. \nLa manifestazione si svolgerà sabato 28 e domenica 29 marzo 2026 presso il Palazzetto dello Sport “Paolo Tosto” di Tivoli\, e rappresenta uno dei principali eventi del calendario sportivo regionale dedicato alle arti marziali. \nL’evento riunirà società sportive\, tecnici e atleti provenienti da diverse regioni italiane\, offrendo due giornate di competizione e condivisione sportiva dedicate alle specialità del karate agonistico e promozionale. \nLuogo dell’evento\nPalazzetto dello Sport “Paolo Tosto”Via Empolitana Km 300019 Tivoli (Roma) \nSpecialità in gara\nDurante la manifestazione verranno disputate competizioni nelle seguenti discipline: \n\n\nKata individuale \n\n\nKumite individuale \n\n\nParakarate \n\n\nLe gare saranno organizzate secondo i regolamenti federali di riferimento e secondo il regolamento tecnico dello Csain\, con l’obiettivo di garantire competizioni corrette\, sicure e di alto livello tecnico. \nProgramma della manifestazione \nSabato 28 marzo 2026\nSpecialità: Kata e Parakarate \n\n\nOre 14:00 – 14:30Accredito partecipanti e riunione di coordinamento con i tecnici \n\n\nOre 14:30Saluto iniziale e avvio delle competizioni \n\n\nLe gare proseguiranno fino alle ore 19:30. \nDomenica 29 marzo 2026\nSpecialità: Kumite \n\n\nOre 08:30 – 09:00Accredito partecipanti e riunione di coordinamento con i tecnici \n\n\nOre 09:00Saluto iniziale e inizio delle competizioni \n\n\nL’ordine di gara partirà dalle categorie giovanili per proseguire con le categorie superiori. Gli orari dettagliati verranno comunicati dopo la chiusura delle iscrizioni e la definizione dei tabelloni di gara. \nCategorie di partecipazione \nLa competizione è aperta a numerose classi di età e livelli tecnici\, tra cui: \n\n\nU8 – Bambini \n\n\nU10 – Fanciulli \n\n\nU12 – Ragazzi \n\n\nEsordienti \n\n\nCadetti \n\n\nJunior \n\n\nSenior \n\n\nMaster \n\n\nSaranno inoltre previste competizioni dedicate agli atleti Parakarate\, suddivise per tipologia di disabilità e categoria tecnica. \nQuote di partecipazione \n\n\nParakarate: gratuito \n\n\nSingola specialità: €25 \n\n\nDoppia specialità (Kata + Kumite): €40 \n\n\nLe quote dovranno essere versate dalle società sportive dopo la conferma dell’iscrizione degli atleti nei tabelloni gara. \nModalità di iscrizione \nLe iscrizioni dovranno essere inviate entro e non oltre martedì 24 marzo 2026. \nPer partecipare è necessario: \n\n\nCompilare il modulo di iscrizione ufficiale (formato Excel). \n\n\nInserire i dati degli atleti utilizzando i menu a tendina previsti nel file. \n\n\nInviare la modulistica all’indirizzo email: \n\n\n📧 infokarate@csainlazio.it \nLe iscrizioni verranno accettate in ordine cronologico fino al raggiungimento del numero massimo di partecipanti previsto dall’organizzazione. Non saranno accettate iscrizioni direttamente sul posto. \nPremi e classifiche \nLa competizione si svolgerà con sistema ad eliminazione diretta. \nSono previste premiazioni per: \n\n\n1° classificato \n\n\n2° classificato \n\n\n3° classificato a pari merito \n\n\nPer le categorie giovanili preagonistiche è prevista anche una medaglia di partecipazione. \nSarà inoltre stilata una classifica per società sportive sulla base dei risultati ottenuti dagli atleti durante la manifestazione. \nInformazioni e contatti\nPer ulteriori informazioni sull’evento è possibile contattare l’organizzazione: \n📞 338 1215211📞 06 8366 4599 \n📧 infokarate@csainlazio.it \nScarica il modulo di iscrizione kumite\nScarica il modulo di iscrizione kata individuale\n 
URL:https://www.csainlazio.it/evento/3-grand-prix-karate-lazio-csain/
LOCATION:Palazzetto dello Sport “Paolo Tosto” di Tivoli\, Italy
CATEGORIES:Eventi Roma,Karate
ATTACH;FMTTYPE=image/jpeg:https://www.csainlazio.it/wp-content/uploads/2026/03/GRANDPRIX-KARATE.jpg
ORGANIZER;CN="Csain Lazio":MAILTO:segreteria@csainlazio.it
END:VEVENT
BEGIN:VEVENT
DTSTART;TZID=Europe/Rome:20260329T140000
DTEND;TZID=Europe/Rome:20260329T190000
DTSTAMP:20260421T194716
CREATED:20260114T091531Z
LAST-MODIFIED:20260416T135905Z
UID:10002327-1774792800-1774810800@www.csainlazio.it
SUMMARY:Circuito Nuoto “Sprint Cup” CSAIn Lazio 2026
DESCRIPTION:Campionato Regionale – Settore Nuoto \nIl Comitato Regionale Lazio dello Csain – Settore Nuoto organizza per la stagione sportiva 2026 il Circuito Nuoto “Sprint Cup”\, manifestazione regionale riservata agli atleti tesserati CSAIn. \nL’evento rappresenta un appuntamento di rilievo per il movimento natatorio regionale\, con un calendario articolato in più prove e una finale conclusiva\, pensato per valorizzare la partecipazione\, la competizione e la crescita tecnica degli atleti. \nScarica la documentazione\n  \n\n📅 Calendario gare 2026\n\n\n\n\n19 aprile 2026Scadenza iscrizioni: 13 aprile 2026 \n\n\n31 maggio 2026 – FinaliScadenza iscrizioni: 25 maggio 2026 \n\n\n\n\nProgramma ufficiale della terza tappa del circuito nuoto “Sprint Cup”\, in programma sabato 19 aprile 2026 presso il Club Nomentano di Roma\, nelle sedi di Viale Kant 312 e Viale Rousseau 124. \nLa manifestazione sarà dedicata alle prove di: \n\n25 metri dorso\n25 metri farfalla\n\nL’evento coinvolgerà atleti di diverse fasce d’età\, a partire dai più piccoli fino alle categorie superiori\, con un’organizzazione studiata per garantire sicurezza\, fluidità e rispetto dei tempi gara. \nProgramma gare e orari\nFemmine 2019 e Maschi 2018 \n\nRitrovo: ore 14:15\nRiscaldamento: 14:20\nInizio gare: 14:30\nPremiazioni a seguire\n\nFemmine 2018 e Maschi 2017 \n\nRitrovo: ore 15:15\nRiscaldamento: 15:20\nInizio gare: 15:30\nPremiazioni a seguire\n\nEsordienti B femmine e maschi \n\nRitrovo: ore 16:30\nRiscaldamento: 16:40\nInizio gare: 16:50\nPremiazioni a seguire\n\nEsordienti A femmine e maschi \n\nRitrovo: ore 17:45\nRiscaldamento: 17:50\nInizio gare: 18:00\nPremiazioni a seguire\n\nCategoria Unica e precedenti femmine e maschi \n\nRitrovo: ore 18:50\nRiscaldamento: 18:55\nInizio gare: 19:00\nPremiazioni a seguire\n\nDisposizioni organizzative\nPer ciascun atleta è consentito l’accesso a un massimo di due spettatori. Il personale addetto\, presso l’ingresso della piscina\, provvederà alla gestione degli accessi.\nA ogni referente di società verranno consegnate due tessere precaricate per l’utilizzo di docce e phon: una per lo spogliatoio maschile e una per lo spogliatoio femminile. Al termine della giornata di gare\, le tessere dovranno essere restituite in segreteria o alla referente Paola.\nGli spogliatoi messi a disposizione delle società ospiti si trovano al piano terra: uno maschile e uno femminile. Si raccomanda di accompagnare gli atleti nel rispetto del loro sesso.\nGli atleti\, nell’area d’attesa\, dovranno attendere l’addetto del personale\, che li inviterà ad accedere al piano vasca quando sarà il momento dell’inizio della loro gara.\nSul piano vasca si invitano gli allenatori a tenere nelle vicinanze gli atleti prossimi alla gara\, al fine di evitare ritardi nello svolgimento delle batterie.\nSi raccomanda la massima diffusione delle presenti disposizioni\, che dovranno essere necessariamente condivise con i referenti di società\, gli allenatori e i genitori. \n  \n  \n\n📋 Regolamento essenziale\n\n\nTutti gli atleti devono essere in possesso di certificato medico di idoneità generica\, depositato presso la società di appartenenza. \n\n\nFase eliminatoria: massimo 2 gare individuali per atleta a giornata. \n\n\nFase finale: massimo 4 gare individuali per atleta. \n\n\nIn finale sono previste anche staffette per categoria. \n\n\nQuota di iscrizione: € 7\,00 per gara. \n\n\nNon sono ammesse iscrizioni sul campo gara. \n\n\n  \n\n✉️ Modalità di iscrizione\nLe Società partecipanti dovranno: \n\n\nCompilare il foglio riepilogativo di iscrizione; \n\n\nInviare il modulo compilato insieme alla contabile del bonifico; \n\n\nTrasmettere il tutto all’indirizzo email:📧 nuoto@csainlazio.it \n\n\n📞 Informazioni: 379 2348 135\n  \n\n🏅 Organizzazione\nManifestazione organizzata dal Comitato Regionale Lazio dello Csain – Settore Nuoto\, nell’ambito delle attività ufficiali di promozione sportiva regionale.
URL:https://www.csainlazio.it/evento/circuito-nuoto-sprint-cup-csain-lazio-2026/2026-03-29/
LOCATION:Club Nomentano\, Viale Rousseau 124 / Viale Kant 312\, Roma\, Italy
CATEGORIES:Eventi In Primo Piano,Eventi Roma,Nuoto
ATTACH;FMTTYPE=image/jpeg:https://www.csainlazio.it/wp-content/uploads/2026/01/ORIZZONTALE.jpg
ORGANIZER;CN="Settore Nuoto C.S.A.In Lazio":MAILTO:nuoto@csainlazio.it
END:VEVENT
END:VCALENDAR