BEGIN:VCALENDAR
VERSION:2.0
PRODID:-//Csain Lazio - ECPv6.15.20//NONSGML v1.0//EN
CALSCALE:GREGORIAN
METHOD:PUBLISH
X-ORIGINAL-URL:https://www.csainlazio.it
X-WR-CALDESC:Eventi per Csain Lazio
REFRESH-INTERVAL;VALUE=DURATION:PT1H
X-Robots-Tag:noindex
X-PUBLISHED-TTL:PT1H
BEGIN:VTIMEZONE
TZID:Europe/Rome
BEGIN:DAYLIGHT
TZOFFSETFROM:+0100
TZOFFSETTO:+0200
TZNAME:CEST
DTSTART:20230326T010000
END:DAYLIGHT
BEGIN:STANDARD
TZOFFSETFROM:+0200
TZOFFSETTO:+0100
TZNAME:CET
DTSTART:20231029T010000
END:STANDARD
BEGIN:DAYLIGHT
TZOFFSETFROM:+0100
TZOFFSETTO:+0200
TZNAME:CEST
DTSTART:20240331T010000
END:DAYLIGHT
BEGIN:STANDARD
TZOFFSETFROM:+0200
TZOFFSETTO:+0100
TZNAME:CET
DTSTART:20241027T010000
END:STANDARD
BEGIN:DAYLIGHT
TZOFFSETFROM:+0100
TZOFFSETTO:+0200
TZNAME:CEST
DTSTART:20250330T010000
END:DAYLIGHT
BEGIN:STANDARD
TZOFFSETFROM:+0200
TZOFFSETTO:+0100
TZNAME:CET
DTSTART:20251026T010000
END:STANDARD
END:VTIMEZONE
BEGIN:VEVENT
DTSTART;TZID=Europe/Rome:20240928T150000
DTEND;TZID=Europe/Rome:20240928T180000
DTSTAMP:20260422T090608
CREATED:20240918T063935Z
LAST-MODIFIED:20260419T164444Z
UID:10000239-1727535600-1727546400@www.csainlazio.it
SUMMARY:Riunione Tecnica Ginnastica Artistica Csain Lazio
DESCRIPTION:CSAIN Lazio è lieta di annunciare una riunione tecnica dedicata alla ginnastica artistica maschile e femminile. L’incontro\, presieduto dalle responsabili di settore Giulia De Santis e Noemi Muzi\, si terrà sabato 28 settembre alle ore 15:00 presso il teatro San Pancrazio a Roma. Questo evento rappresenta un’importante occasione per le società affiliate e per coloro che desiderano approfondire le novità riguardanti la disciplina. \nOrdine del Giorno: \nLa riunione affronterà diversi punti fondamentali per la stagione in corso. Innanzitutto\, verranno presentate ufficialmente le attuali responsabili della ginnastica artistica CSAIN\, figure di riferimento per le società e gli atleti. In seguito\, saranno illustrate le modalità e i costi di affiliazione e tesseramento\, informazioni essenziali per una corretta gestione amministrativa.Grande attenzione sarà dedicata alle modifiche dei programmi GAF (Ginnastica Artistica Femminile) e GAM (Ginnastica Artistica Maschile)\, che verranno spiegate nel dettaglio per permettere a tecnici e atleti di adeguare la preparazione. Inoltre\, saranno presentate le eventuali manifestazioni in programma per la stagione\, occasioni di confronto e crescita per le società partecipanti. \nFormazione e Qualifiche: \nLa riunione sarà anche l’occasione per presentare i corsi di formazione per istruttori e l’esame di qualifica per coloro che hanno già maturato esperienza nel settore. Questa opportunità permetterà di ampliare le competenze tecniche e didattiche dei partecipanti\, garantendo un costante miglioramento della qualità dell’insegnamento. \nInoltre\, sarà illustrato il corso per aspiranti giudici\, figura fondamentale per lo svolgimento delle competizioni. Diventare giudice di ginnastica artistica rappresenta un’occasione di crescita personale e un modo per contribuire attivamente allo sviluppo della disciplina. \nLa riunione tecnica di ginnastica artistica CSAIN si preannuncia come un momento di incontro e confronto fondamentale per le società affiliate e per tutti coloro che desiderano approfondire questa affascinante disciplina. Le responsabili di settore\, Giulia De Santis e Noemi Muzi\, saranno a disposizione per rispondere a domande e fornire chiarimenti durante l’incontro. \nPer favorire una discussione più approfondita\, verranno inviate alle società interessate le bozze dei programmi prima della riunione. Si richiede gentilmente di confermare la partecipazione all’evento\, in modo da poter organizzare al meglio l’incontro. \nPer ulteriori informazioni\, è possibile contattare l’indirizzo email artistica@csainlazio.it. Lo staff CSAIN Lazio è a completa disposizione per fornire tutti i dettagli necessari e supportare le società nella loro crescita e sviluppo all’interno del mondo della ginnastica artistica. \nNon perdete questa importante occasione di incontro\, confronto e formazione. Vi aspettiamo numerosi sabato 28 settembre al teatro San Pancrazio di Roma per una giornata dedicata alla passione per la ginnastica artistica!
URL:https://www.csainlazio.it/evento/riunione-tecncica-ginnastica-artistica-csain-lazio/
LOCATION:Teatro San Pancrazio\, piazza San pancrazio 7 (zona Gianicolo/Monteverde)\, ROMA\, 00152\, Italy
CATEGORIES:Eventi Roma,Ginnastica Artistica
ATTACH;FMTTYPE=image/jpeg:https://www.csainlazio.it/wp-content/uploads/2024/09/ORIZONTALE-3.jpg
ORGANIZER;CN="Settore Ginnastica Artistica":MAILTO:artistica@csainlazio.it
END:VEVENT
END:VCALENDAR