BEGIN:VCALENDAR
VERSION:2.0
PRODID:-//Csain Lazio - ECPv6.15.20//NONSGML v1.0//EN
CALSCALE:GREGORIAN
METHOD:PUBLISH
X-ORIGINAL-URL:https://www.csainlazio.it
X-WR-CALDESC:Eventi per Csain Lazio
REFRESH-INTERVAL;VALUE=DURATION:PT1H
X-Robots-Tag:noindex
X-PUBLISHED-TTL:PT1H
BEGIN:VTIMEZONE
TZID:Europe/Rome
BEGIN:DAYLIGHT
TZOFFSETFROM:+0100
TZOFFSETTO:+0200
TZNAME:CEST
DTSTART:20230326T010000
END:DAYLIGHT
BEGIN:STANDARD
TZOFFSETFROM:+0200
TZOFFSETTO:+0100
TZNAME:CET
DTSTART:20231029T010000
END:STANDARD
BEGIN:DAYLIGHT
TZOFFSETFROM:+0100
TZOFFSETTO:+0200
TZNAME:CEST
DTSTART:20240331T010000
END:DAYLIGHT
BEGIN:STANDARD
TZOFFSETFROM:+0200
TZOFFSETTO:+0100
TZNAME:CET
DTSTART:20241027T010000
END:STANDARD
BEGIN:DAYLIGHT
TZOFFSETFROM:+0100
TZOFFSETTO:+0200
TZNAME:CEST
DTSTART:20250330T010000
END:DAYLIGHT
BEGIN:STANDARD
TZOFFSETFROM:+0200
TZOFFSETTO:+0100
TZNAME:CET
DTSTART:20251026T010000
END:STANDARD
END:VTIMEZONE
BEGIN:VEVENT
DTSTART;TZID=Europe/Rome:20240525T150000
DTEND;TZID=Europe/Rome:20240525T230000
DTSTAMP:20260423T022313
CREATED:20240311T160428Z
LAST-MODIFIED:20260419T164449Z
UID:10000215-1716649200-1716678000@www.csainlazio.it
SUMMARY:Rough Contest 2024
DESCRIPTION:Il ROUGH Contest rappresenta un’importante vetrina per tutti gli appassionati e talenti del mondo della danza\, offrendo una piattaforma unica per esprimere il proprio stile e abilità attraverso diverse discipline. Questo evento annuale si terrà Sabato 25 maggio 2024 presso il Teatro Golden situato in via Taranto\, 36 – 00182 Roma (RM)\, un luogo che da solo aggiunge prestigio e fascino all’esperienza. \nIl contest è aperto a danzatori di ogni età ed esperienza\, suddivisi in quattro categorie in base all’età: BABY (da 5 a 8 anni)\, KIDS (da 9 a 12 anni)\, JUNIOR (da 13 a 16 anni)\, e SENIOR (dai 17 anni in su). Questa suddivisione permette una competizione equa e incoraggia la partecipazione di un ampio spettro di talenti. La determinazione della categoria di appartenenza avviene attraverso il calcolo della media matematica dell’età dei componenti per i gruppi\, con un approccio inclusivo che consente una rappresentazione equilibrata. \nLe discipline in concorso sono l’HIP HOP e STREET DANCE\, insieme alla CONTAMINAZIONE\, una categoria che invita i partecipanti a esplorare l’ibridazione tra stili differenti\, promuovendo così la creatività e l’innovazione nel campo della danza. \nQuesta varietà di categorie offre ai danzatori la possibilità di esprimersi in modi diversi e di confrontarsi con altri artisti che condividono la stessa passione. Il contest è aperto a SOLO\, DUO e GRUPPI\, con quest’ultima categoria che considera da 3 elementi in poi\, permettendo così la partecipazione sia di piccoli che di grandi formazioni. \nQuesto approccio flessibile consente a danzatori di tutti i livelli e composizioni di gruppo di mettersi in gioco e di condividere il proprio talento con un pubblico ampio e appassionato. \n			\n						Scarica il regolamento\n					 \nGiuria\n\nAlex Orlando\n\nMoreno Mostarda\n\nZiggy Pop\n\nFlaminia Genoese\n\nPicca\nHost\n\nScar\nInvia una richiesta
URL:https://www.csainlazio.it/evento/rough-contest-2024/
LOCATION:Teatro Golden\, via Taranto\, 36\, ROMA\, 00182\, Italia
CATEGORIES:Danza,Eventi In Primo Piano,Eventi Roma
ATTACH;FMTTYPE=image/jpeg:https://www.csainlazio.it/wp-content/uploads/2024/03/Rough-contest.jpg
ORGANIZER;CN="Settore Danza C.S.A.In Lazio":MAILTO:danza@csainlazio.it
GEO:41.8854347;12.5114958
X-APPLE-STRUCTURED-LOCATION;VALUE=URI;X-ADDRESS=Teatro Golden via Taranto 36 ROMA 00182 Italia;X-APPLE-RADIUS=500;X-TITLE=via Taranto\, 36:geo:12.5114958,41.8854347
END:VEVENT
END:VCALENDAR